BEGIN:VCALENDAR
PRODID:NingEventWidget-v1
VERSION:2.0
METHOD:PUBLISH
BEGIN:VTIMEZONE
TZID:America/Los_Angeles
X-LIC-LOCATION:America/Los_Angeles
BEGIN:DAYLIGHT
TZOFFSETFROM:-0800
TZOFFSETTO:-0700
TZNAME:PDT
DTSTART:19700308T020000
RRULE:FREQ=YEARLY;BYMONTH=3;BYDAY=2SU
END:DAYLIGHT
BEGIN:STANDARD
TZOFFSETFROM:-0700
TZOFFSETTO:-0800
TZNAME:PST
DTSTART:19701101T020000
RRULE:FREQ=YEARLY;BYMONTH=11;BYDAY=1SU
END:STANDARD
END:VTIMEZONE
BEGIN:VEVENT
UID:1464587:Event:652480
DTSTAMP:20260420T121342Z
SUMMARY:Controversy (Prince tribute party)
DESCRIPTION:\nFRIDAY, AUG 19\nCONTROVERSY\na dj tribute party celebrat
 ing the life and music of Prince.\nDJ Dave Paul playing album cuts, b-
 sides, un-released tracks, remixes, 12\" versions and the hits from th
 e artist PRINCE as well as some songs he produced and wrote for associ
 ated artists. Tickets at http://bit.ly/aug19cont  The Loft inside Pub
 lic Works 161 Erie St (off Mission btw 14th & Duboce) 9pm / $10 / 21+ 
 w valid ID  Prince revolutionized both R&B and popular music, and infl
 uenced thousands of musicians worldwide. This party pays tribute to on
 e of the greatest artists of our time.\n\nFor more information visit h
 ttp://trueskool.com/events/controversy-prince-tribute-party
DTSTART;TZID=America/Los_Angeles:20160819T210000
DTEND;TZID=America/Los_Angeles:20160820T020000
CATEGORIES:san, francisco
LOCATION:Public Works, San Francisco, CA
WEBSITE:https://www.facebook.com/events/1770802306471132/
URL:https://www.facebook.com/events/1770802306471132/
CONTACT:
ORGANIZER;CN="Dave Paul":http://trueskool.com/profile/DavePaul
ATTACH;FMTTYPE="image/jpeg":http://storage.ning.com/topology/rest/1.0/
 file/get/2247990568?profile=original
ATTENDEE;ROLE=REQ-PARTICIPANT;PARTSTAT=ACCEPTED;RSVP=TRUE;CN="Dave Pau
 l":http://trueskool.com/profile/DavePaul
END:VEVENT
END:VCALENDAR
