BEGIN:VCALENDAR
PRODID:NingEventWidget-v1
VERSION:2.0
METHOD:PUBLISH
BEGIN:VTIMEZONE
TZID:America/Los_Angeles
X-LIC-LOCATION:America/Los_Angeles
BEGIN:DAYLIGHT
TZOFFSETFROM:-0800
TZOFFSETTO:-0700
TZNAME:PDT
DTSTART:19700308T020000
RRULE:FREQ=YEARLY;BYMONTH=3;BYDAY=2SU
END:DAYLIGHT
BEGIN:STANDARD
TZOFFSETFROM:-0700
TZOFFSETTO:-0800
TZNAME:PST
DTSTART:19701101T020000
RRULE:FREQ=YEARLY;BYMONTH=11;BYDAY=1SU
END:STANDARD
END:VTIMEZONE
BEGIN:VEVENT
UID:1464587:Event:647161
DTSTAMP:20260420T085054Z
SUMMARY:CON FUNK SHUN
DESCRIPTION:Con Funk Shun\n Sat May 14 6:30pm $69 VIP Artist Meet & Gr
 eet 7:30pm $39 9:30pm $39\nSUN May 15 6:00pm $69 VIP Artist Meet & Gre
 et 7:00pm $36 9:00pm $36\n\nFor more information visit http://trueskoo
 l.com/events/con-funk-shun
DTSTART;TZID=America/Los_Angeles:20160514T193000
DTEND;TZID=America/Los_Angeles:20160515T230000
CATEGORIES:"san francisco", oakland, berkley, "san jose", "bay area"
LOCATION:Yoshi's, Oakland
WEBSITE:https://www.ticketfly.com/purchase/event/1096949?_ga=1.1540536
 88.1208895520.1460556097
URL:https://www.ticketfly.com/purchase/event/1096949?_ga=1.154053688.1
 208895520.1460556097
CONTACT:
ORGANIZER;CN="Editor's Pick":http://trueskool.com/profile/RentheVinylA
 rchaeologist
ATTACH;FMTTYPE="image/jpeg":http://storage.ning.com/topology/rest/1.0/
 file/get/2247988255?profile=original
ATTENDEE;ROLE=REQ-PARTICIPANT;PARTSTAT=ACCEPTED;RSVP=TRUE;CN="Editor's
  Pick":http://trueskool.com/profile/RentheVinylArchaeologist
END:VEVENT
END:VCALENDAR
