BEGIN:VCALENDAR
PRODID:NingEventWidget-v1
VERSION:2.0
METHOD:PUBLISH
BEGIN:VTIMEZONE
TZID:America/Los_Angeles
X-LIC-LOCATION:America/Los_Angeles
BEGIN:DAYLIGHT
TZOFFSETFROM:-0800
TZOFFSETTO:-0700
TZNAME:PDT
DTSTART:19700308T020000
RRULE:FREQ=YEARLY;BYMONTH=3;BYDAY=2SU
END:DAYLIGHT
BEGIN:STANDARD
TZOFFSETFROM:-0700
TZOFFSETTO:-0800
TZNAME:PST
DTSTART:19701101T020000
RRULE:FREQ=YEARLY;BYMONTH=11;BYDAY=1SU
END:STANDARD
END:VTIMEZONE
BEGIN:VEVENT
UID:1464587:Event:333839
DTSTAMP:20260421T021454Z
SUMMARY:Comparsa CultuCuba San Francisco Carnaval Contingent
DESCRIPTION:Comparsa CultuCuba   New dancers and drummers are welcome
  to participate in the 2014 CultuCuba Carnaval contingent.   Rehearsa
 ls: Every Sunday 2:30pm-4:00 PM. Studi C Malonga, 1428 Alice, 3rd Floo
 r, Oakland  Costs involved for Comparsa participation: One-time regist
 ration fee of $25 $12/rehearsal A costume fee will also be required We
  want everyone (including children) to join in the fun and party with 
 the CultuCuba Comparsa at SF Carnaval 2014. www.cultucuba.org\n\nFor m
 ore information visit http://trueskool.com/events/comparsa-cultucuba-s
 an-francisco-carnavla-contingent
DTSTART;TZID=America/Los_Angeles:20140406T143000
DTEND;TZID=America/Los_Angeles:20140406T160000
CATEGORIES:malonga, center, 1428, alice, 3rd, floor, oakland
LOCATION:Malonga Center
WEBSITE:
URL:
CONTACT:415 947 9729
ORGANIZER;CN="Manuel Suarez":http://trueskool.com/profile/ManuelSuarez
ATTACH;FMTTYPE="image/jpeg":http://storage.ning.com/topology/rest/1.0/
 file/get/2247964135?profile=original
ATTENDEE;ROLE=REQ-PARTICIPANT;PARTSTAT=ACCEPTED;RSVP=TRUE;CN="Manuel S
 uarez":http://trueskool.com/profile/ManuelSuarez
END:VEVENT
END:VCALENDAR
