BEGIN:VCALENDAR
PRODID:NingEventWidget-v1
VERSION:2.0
METHOD:PUBLISH
BEGIN:VTIMEZONE
TZID:America/Los_Angeles
X-LIC-LOCATION:America/Los_Angeles
BEGIN:DAYLIGHT
TZOFFSETFROM:-0800
TZOFFSETTO:-0700
TZNAME:PDT
DTSTART:19700308T020000
RRULE:FREQ=YEARLY;BYMONTH=3;BYDAY=2SU
END:DAYLIGHT
BEGIN:STANDARD
TZOFFSETFROM:-0700
TZOFFSETTO:-0800
TZNAME:PST
DTSTART:19701101T020000
RRULE:FREQ=YEARLY;BYMONTH=11;BYDAY=1SU
END:STANDARD
END:VTIMEZONE
BEGIN:VEVENT
UID:1464587:Event:93678
DTSTAMP:20260420T170100Z
SUMMARY:Christian Presents Henry Saiz (BALANCE 019 TOUR) & Marc Marzen
 it
DESCRIPTION:Christian Presents Henry Saiz (BALANCE 019 TOUR) & Marc Ma
 rzenit\n \nPURCHASE LIMITED $10 TICKETS (ONLY 50)\nhttp://christianpr
 esents.u​s/303-henry-saiz-balance-0​19-tour-marc-marzenit-in-s​f
 .html.html  08.19.11 Henry Saiz (Balance 019 Tour) - Madrid, Spain \"F
 riday\" at Mighty:: With Marc Marzenit - Barcelona, Mollerussa  Christ
 ian Pineiro, proudly brings another amazing show with 2 Super Star DJ/
 Producers destroying it on all the European Festivals, HENRY SAIZ (BAL
 ANCE 019/Bedrock/Natura Sonoris) & MARC MARZENIT (Paradigma Musik/Coco
 on/Bedrock/Natur​a Sonoris) along some of SF finest DJs.  Santiago L
 opez (Progrezo) Martin Aquino (Resopal, Time Has Changed, Greelpound) 
 Gunz & Ammo (Bassyx) & More...  ABOUT HENRY SAIZ: Henry Saiz is the cr
 eator of a style that is a combination of his love for all things elec
 tronic with a deep passion for art. His music, as well as his work as 
 a sound designer for film and TV has always been marked as forward thi
 nking in approach and groundbreaking upon delivery. Henry's sound refu
 ses to fall into a singular category, he takes in influence on many di
 fferent levels and incorporates this into his live and DJ sets by forg
 ing a perfect balance of Electronica, Disco, House and Techno.  Henry'
 s first productions were released through the highly regarded Global U
 nderground and Paradigm Musik imprints. These releases were instantly 
 noticed by house giant John Digweed, which led to creating one of the 
 biggest tracks of 2009, which was also named as Pete Tong’s Essentia
 l New Tune. Released on Bedrock, Henry's remix of Guy J’s “Lamur
  was regarded by critics and DJ’s alike as “the track of the year
 ”. Following the success of this remix, yet another giant label; Ren
 aissance commissioned the release of “Artificial Paradises EP” and
  “Madre Noche EP” in 2009 and “The Rider EP” in 2010.  MARC MA
 RZENIT BIO: Precociousness in techno has its best and latest represent
 ative in Marzenit. At the age of 11, while studying classical music in
  an music academy, he got his first synthesizer and at 14 he was walki
 ng around the electronic music festival Sónar looking for electronic 
 emotions. At the age of 22 he performed his first live set at Florida 
 135. Only one year later, he created his first label, Paradigma Musik,
  which now has several international artists such as Paul Ritch, Henry
  Saiz, Gary Beck, David Keno and Gavin Herlihy among others.  His firs
 t publications were received and demanded by the most selective circle
 s of international electronic music. A few years later, his songs were
  being included in compilations of John Digweed, Sven Väth, Hernan Ca
 ttaneo, Wally Lopez, Secret Cinema and Tiësto.  Marzenit's prompt def
 inition –concise vs. eclectic– of a personal, unique and unprecede
 nted style is what draws him apart from the other talented 'techs'. In
  his productions and live sets there is an anabolic, epic and progress
 ive techno, which provides intimate, fascinating glider melodies. What
  makes Marc unique in his work is his ability to impregnate sense and 
 sensibility to that 'muscular' techno in an unusual and even paradoxic
 al way.  21+ 9PM - 3.30AM @ Mighty - 119 Utah Street\n \n \n\nFor mo
 re information visit http://trueskool.com/events/christian-presents-he
 nry-saiz
DTSTART;TZID=America/Los_Angeles:20110819T210000
DTEND;TZID=America/Los_Angeles:20110820T033000
CATEGORIES:san, francisco, ca
LOCATION:MIGHTY, San Francisco
WEBSITE:http://christianpresents.u​s/303-henry-saiz-balance-0​19-t
 our-marc-marzenit-in-s​f.html.html
URL:http://christianpresents.u​s/303-henry-saiz-balance-0​19-tour-
 marc-marzenit-in-s​f.html.html
CONTACT:
ORGANIZER;CN="Carey Kopp":http://trueskool.com/profile/k85
ATTACH;FMTTYPE="image/jpeg":http://storage.ning.com/topology/rest/1.0/
 file/get/2247900284?profile=original
ATTENDEE;ROLE=REQ-PARTICIPANT;PARTSTAT=ACCEPTED;RSVP=TRUE;CN="Carey Ko
 pp":http://trueskool.com/profile/k85
END:VEVENT
END:VCALENDAR
