BEGIN:VCALENDAR
PRODID:NingEventWidget-v1
VERSION:2.0
METHOD:PUBLISH
BEGIN:VTIMEZONE
TZID:America/Los_Angeles
X-LIC-LOCATION:America/Los_Angeles
BEGIN:DAYLIGHT
TZOFFSETFROM:-0800
TZOFFSETTO:-0700
TZNAME:PDT
DTSTART:19700308T020000
RRULE:FREQ=YEARLY;BYMONTH=3;BYDAY=2SU
END:DAYLIGHT
BEGIN:STANDARD
TZOFFSETFROM:-0700
TZOFFSETTO:-0800
TZNAME:PST
DTSTART:19701101T020000
RRULE:FREQ=YEARLY;BYMONTH=11;BYDAY=1SU
END:STANDARD
END:VTIMEZONE
BEGIN:VEVENT
UID:1464587:Event:651545
DTSTAMP:20260420T115734Z
SUMMARY:CHRISETTE MICHELE
DESCRIPTION:CHRISETTE MICHELE\nSunday, July 31, 2016Doors: 7:00PM |Sho
 w: 8:15PM982 Market StreetSan Francisco, CA 94102(415) 345-0900THE WAR
 FIELD\n\nFor more information visit http://trueskool.com/events/chrise
 tte-michele-4
DTSTART;TZID=America/Los_Angeles:20160731T190000
DTEND;TZID=America/Los_Angeles:20160731T230000
CATEGORIES:"san francisco", oakland, berkley, "san jose", "bay area"
LOCATION:The Warfield, San Francisco
WEBSITE:http://www.axs.com/events/310171/chrisette-michele-tickets?ski
 n=goldenvoice
URL:http://www.axs.com/events/310171/chrisette-michele-tickets?skin=go
 ldenvoice
CONTACT:
ORGANIZER;CN="Editor's Pick":http://trueskool.com/profile/RentheVinylA
 rchaeologist
ATTACH;FMTTYPE="image/jpeg":http://storage.ning.com/topology/rest/1.0/
 file/get/2247989046?profile=original
ATTENDEE;ROLE=REQ-PARTICIPANT;PARTSTAT=ACCEPTED;RSVP=TRUE;CN="Editor's
  Pick":http://trueskool.com/profile/RentheVinylArchaeologist
END:VEVENT
END:VCALENDAR
