BEGIN:VCALENDAR
PRODID:NingEventWidget-v1
VERSION:2.0
METHOD:PUBLISH
BEGIN:VTIMEZONE
TZID:America/Los_Angeles
X-LIC-LOCATION:America/Los_Angeles
BEGIN:DAYLIGHT
TZOFFSETFROM:-0800
TZOFFSETTO:-0700
TZNAME:PDT
DTSTART:19700308T020000
RRULE:FREQ=YEARLY;BYMONTH=3;BYDAY=2SU
END:DAYLIGHT
BEGIN:STANDARD
TZOFFSETFROM:-0700
TZOFFSETTO:-0800
TZNAME:PST
DTSTART:19701101T020000
RRULE:FREQ=YEARLY;BYMONTH=11;BYDAY=1SU
END:STANDARD
END:VTIMEZONE
BEGIN:VEVENT
UID:1464587:Event:676776
DTSTAMP:20260420T183720Z
SUMMARY:Chris Riggins Presents ROYALE-ty CHECK A night of comedy &amp;
  Music
DESCRIPTION:ROYALE-ty CHECK \nA NIGHT OF COMEDY & MUSIC \nROYALE 800
  POST ST SF, CA\n8pm\n\nFor more information visit http://trueskool.co
 m/events/chris-riggins-presents-royale-ty-check-a-night-of-comedy-amp
DTSTART;TZID=America/Los_Angeles:20180725T200000
DTEND;TZID=America/Los_Angeles:20180725T230000
CATEGORIES:bay, area, comedy
LOCATION:Royale
WEBSITE:
URL:
CONTACT:
ORGANIZER;CN="Chris Riggins":http://trueskool.com/profile/Kewlchris
ATTACH;FMTTYPE="image/jpeg":http://storage.ning.com/topology/rest/1.0/
 file/get/2248008283?profile=original
ATTENDEE;ROLE=REQ-PARTICIPANT;PARTSTAT=ACCEPTED;RSVP=TRUE;CN="Chris Ri
 ggins":http://trueskool.com/profile/Kewlchris
END:VEVENT
END:VCALENDAR
