BEGIN:VCALENDAR
PRODID:NingEventWidget-v1
VERSION:2.0
METHOD:PUBLISH
BEGIN:VTIMEZONE
TZID:America/Los_Angeles
X-LIC-LOCATION:America/Los_Angeles
BEGIN:DAYLIGHT
TZOFFSETFROM:-0800
TZOFFSETTO:-0700
TZNAME:PDT
DTSTART:19700308T020000
RRULE:FREQ=YEARLY;BYMONTH=3;BYDAY=2SU
END:DAYLIGHT
BEGIN:STANDARD
TZOFFSETFROM:-0700
TZOFFSETTO:-0800
TZNAME:PST
DTSTART:19701101T020000
RRULE:FREQ=YEARLY;BYMONTH=11;BYDAY=1SU
END:STANDARD
END:VTIMEZONE
BEGIN:VEVENT
UID:1464587:Event:676226
DTSTAMP:20260420T194132Z
SUMMARY:Chris Riggins Presents...A Live Comedy Album Recording. “Hom
 etown Hero”
DESCRIPTION:Come out and be a part of a Live Comedy Album recording fo
 r Chris Riggins’s “Home Town Hero” \nexperience the laughter as
  comedian Chris Riggins talks aboit life in the bay and the world!! \
 n\nFor more information visit http://trueskool.com/events/chris-riggin
 s-presents-a-live-comedy-album-recording-hometown
DTSTART;TZID=America/Los_Angeles:20180708T193000
DTEND;TZID=America/Los_Angeles:20180708T220000
CATEGORIES:"chris riggins” ", "comedy”"
LOCATION:Milk Bar San Francisco, CA
WEBSITE:https://www.eventbrite.com/e/chris-riggins-presents-hometown-h
 ero-my-live-comedy-album-taping-tickets-47455029270?aff=eac2
URL:https://www.eventbrite.com/e/chris-riggins-presents-hometown-hero-
 my-live-comedy-album-taping-tickets-47455029270?aff=eac2
CONTACT:
ORGANIZER;CN="Chris Riggins":http://trueskool.com/profile/Kewlchris
ATTACH;FMTTYPE="image/jpeg":http://storage.ning.com/topology/rest/1.0/
 file/get/2248007804?profile=original
ATTENDEE;ROLE=REQ-PARTICIPANT;PARTSTAT=ACCEPTED;RSVP=TRUE;CN="Chris Ri
 ggins":http://trueskool.com/profile/Kewlchris
END:VEVENT
END:VCALENDAR
