BEGIN:VCALENDAR
PRODID:NingEventWidget-v1
VERSION:2.0
METHOD:PUBLISH
BEGIN:VTIMEZONE
TZID:America/Los_Angeles
X-LIC-LOCATION:America/Los_Angeles
BEGIN:DAYLIGHT
TZOFFSETFROM:-0800
TZOFFSETTO:-0700
TZNAME:PDT
DTSTART:19700308T020000
RRULE:FREQ=YEARLY;BYMONTH=3;BYDAY=2SU
END:DAYLIGHT
BEGIN:STANDARD
TZOFFSETFROM:-0700
TZOFFSETTO:-0800
TZNAME:PST
DTSTART:19701101T020000
RRULE:FREQ=YEARLY;BYMONTH=11;BYDAY=1SU
END:STANDARD
END:VTIMEZONE
BEGIN:VEVENT
UID:1464587:Event:555501
DTSTAMP:20260420T214249Z
SUMMARY:Chris Brown
DESCRIPTION:\nDate\nLocation\nEvent Details\nFind Tickets\n\n\nMAR  
 \n6\nFRI\n\nSAP Center at San JoseSan Jose, CA07:30 PM\n\nChris Brown
  with Trey Songz featuring Tyga: Between the Sheets TourDetails: Chris
  Brown, Trey Songz, Tyga\nSee Tickets\n\n\n\n\n\nFor more informatio
 n visit http://trueskool.com/events/chris-brown
DTSTART;TZID=America/Los_Angeles:20150306T193000
DTEND;TZID=America/Los_Angeles:20150306T230000
CATEGORIES:"san francisco", "san jose", oakland, berkley, "bay area"
LOCATION:SAP Center at San Jose, San Jose
WEBSITE:http://www.ticketmaster.com/chris-brown-with-trey-songz-featur
 ing-san-jose-california-03-06-2015/event/1C004D672CA07B19?artistid=101
 3849&majorcatid=10001&minorcatid=202&tm_link=artist_msg-0_1C004D672CA0
 7B19
URL:http://www.ticketmaster.com/chris-brown-with-trey-songz-featuring-
 san-jose-california-03-06-2015/event/1C004D672CA07B19?artistid=1013849
 &majorcatid=10001&minorcatid=202&tm_link=artist_msg-0_1C004D672CA07B19
CONTACT:
ORGANIZER;CN="Editor's Pick":http://trueskool.com/profile/RentheVinylA
 rchaeologist
ATTACH;FMTTYPE="image/jpeg":http://storage.ning.com/topology/rest/1.0/
 file/get/2247972841?profile=original
ATTENDEE;ROLE=REQ-PARTICIPANT;PARTSTAT=ACCEPTED;RSVP=TRUE;CN="Editor's
  Pick":http://trueskool.com/profile/RentheVinylArchaeologist
END:VEVENT
END:VCALENDAR
