BEGIN:VCALENDAR
PRODID:NingEventWidget-v1
VERSION:2.0
METHOD:PUBLISH
BEGIN:VTIMEZONE
TZID:America/Los_Angeles
X-LIC-LOCATION:America/Los_Angeles
BEGIN:DAYLIGHT
TZOFFSETFROM:-0800
TZOFFSETTO:-0700
TZNAME:PDT
DTSTART:19700308T020000
RRULE:FREQ=YEARLY;BYMONTH=3;BYDAY=2SU
END:DAYLIGHT
BEGIN:STANDARD
TZOFFSETFROM:-0700
TZOFFSETTO:-0800
TZNAME:PST
DTSTART:19701101T020000
RRULE:FREQ=YEARLY;BYMONTH=11;BYDAY=1SU
END:STANDARD
END:VTIMEZONE
BEGIN:VEVENT
UID:1464587:Event:554312
DTSTAMP:20260420T201500Z
SUMMARY:Chris Brown (New Orleans)
DESCRIPTION:\nDate\nLocation\nEvent Details\nFind Tickets\n\n\nMAR  
 \n12\nTHU\n\nSmoothie King CenterNew Orleans, LA07:30 PM\n\nChris Bro
 wn with Trey Songz featuring Tyga: Between the Sheets TourDetails: Chr
 is Brown, Trey Songz, Tyga\nSee Tickets\n\n\n\n\nFor more informatio
 n visit http://trueskool.com/events/chris-brown-new-orleans
DTSTART;TZID=America/Los_Angeles:20150312T193000
DTEND;TZID=America/Los_Angeles:20150312T230000
CATEGORIES:"new orleans", louisiana, la
LOCATION:Smoothie King Center, New Orleans
WEBSITE:http://www.ticketmaster.com/chris-brown-with-trey-songz-featur
 ing-new-orleans-louisiana-03-12-2015/event/1B004D6990F0176E?artistid=1
 013849&majorcatid=10001&minorcatid=202&tm_link=artist_msg-0_1B004D6990
 F0176E
URL:http://www.ticketmaster.com/chris-brown-with-trey-songz-featuring-
 new-orleans-louisiana-03-12-2015/event/1B004D6990F0176E?artistid=10138
 49&majorcatid=10001&minorcatid=202&tm_link=artist_msg-0_1B004D6990F017
 6E
CONTACT:
ORGANIZER;CN="Editor's Pick":http://trueskool.com/profile/RentheVinylA
 rchaeologist
ATTACH;FMTTYPE="image/jpeg":http://storage.ning.com/topology/rest/1.0/
 file/get/2247972841?profile=original
ATTENDEE;ROLE=REQ-PARTICIPANT;PARTSTAT=ACCEPTED;RSVP=TRUE;CN="Editor's
  Pick":http://trueskool.com/profile/RentheVinylArchaeologist
END:VEVENT
END:VCALENDAR
