BEGIN:VCALENDAR
PRODID:NingEventWidget-v1
VERSION:2.0
METHOD:PUBLISH
BEGIN:VTIMEZONE
TZID:America/Los_Angeles
X-LIC-LOCATION:America/Los_Angeles
BEGIN:DAYLIGHT
TZOFFSETFROM:-0800
TZOFFSETTO:-0700
TZNAME:PDT
DTSTART:19700308T020000
RRULE:FREQ=YEARLY;BYMONTH=3;BYDAY=2SU
END:DAYLIGHT
BEGIN:STANDARD
TZOFFSETFROM:-0700
TZOFFSETTO:-0800
TZNAME:PST
DTSTART:19701101T020000
RRULE:FREQ=YEARLY;BYMONTH=11;BYDAY=1SU
END:STANDARD
END:VTIMEZONE
BEGIN:VEVENT
UID:1464587:Event:508036
DTSTAMP:20260421T011808Z
SUMMARY:Charlie Wilson with Kem Featuring Joe- Forever Charlie Tour
DESCRIPTION:\nCharlie Wilson with Kem Featuring Joe- Forever Charlie T
 our\n \n\n\nOracle Arena Oakland, CA\n\nFri, 03/27/15 08:00 PM\n\nMor
 e Infopresale begins:Tue, 01/06/15 10:00 AM\n\n\n\n\n\n\nFor more info
 rmation visit http://trueskool.com/events/charlie-wilson-with-kem-feat
 uring-joe-forever-charlie-tour
DTSTART;TZID=America/Los_Angeles:20150327T200000
DTEND;TZID=America/Los_Angeles:20150327T230000
CATEGORIES:"bay area", oakland
LOCATION:Oracle Arena, Oakland
WEBSITE:http://www.ticketmaster.com/charlie-wilson-with-kem-featuring-
 joe-oakland-california-03-27-2015/event/1C004D9391B62456?artistid=1013
 367&majorcatid=10001&minorcatid=202
URL:http://www.ticketmaster.com/charlie-wilson-with-kem-featuring-joe-
 oakland-california-03-27-2015/event/1C004D9391B62456?artistid=1013367&
 majorcatid=10001&minorcatid=202
CONTACT:
ORGANIZER:Live Nation
ATTACH;FMTTYPE="image/jpeg":http://storage.ning.com/topology/rest/1.0/
 file/get/2247972770?profile=original
ATTENDEE;ROLE=REQ-PARTICIPANT;PARTSTAT=ACCEPTED;RSVP=TRUE;CN="Editor's
  Pick":http://trueskool.com/profile/RentheVinylArchaeologist
END:VEVENT
END:VCALENDAR
