BEGIN:VCALENDAR
PRODID:NingEventWidget-v1
VERSION:2.0
METHOD:PUBLISH
BEGIN:VTIMEZONE
TZID:America/Los_Angeles
X-LIC-LOCATION:America/Los_Angeles
BEGIN:DAYLIGHT
TZOFFSETFROM:-0800
TZOFFSETTO:-0700
TZNAME:PDT
DTSTART:19700308T020000
RRULE:FREQ=YEARLY;BYMONTH=3;BYDAY=2SU
END:DAYLIGHT
BEGIN:STANDARD
TZOFFSETFROM:-0700
TZOFFSETTO:-0800
TZNAME:PST
DTSTART:19701101T020000
RRULE:FREQ=YEARLY;BYMONTH=11;BYDAY=1SU
END:STANDARD
END:VTIMEZONE
BEGIN:VEVENT
UID:1464587:Event:554360
DTSTAMP:20260420T203809Z
SUMMARY:Charlie Wilson (New Orleans)
DESCRIPTION:\nDate\nLocation\nEvent Details\nFind Tickets\n\n\nMAR  
 \n14\nSAT\n\nSmoothie King CenterNew Orleans, LA08:00 PM\n\nCharlie W
 ilson with Kem Featuring Joe- Forever Charlie TourDetails: Charlie Wil
 son, Kem,Joe\nSee Tickets\n\n\n\n\nFor more information visit http://
 trueskool.com/events/charlie-wilson-new-orleans
DTSTART;TZID=America/Los_Angeles:20150314T200000
DTEND;TZID=America/Los_Angeles:20150314T230000
CATEGORIES:"new orleans", louisiana, la
LOCATION:Smoothie King Center, New Orleans
WEBSITE:http://www.ticketmaster.com/charlie-wilson-with-kem-featuring-
 joe-new-orleans-louisiana-03-14-2015/event/1B004D908E082296?artistid=1
 013367&majorcatid=10001&minorcatid=202&tm_link=artist_msg-0_1B004D908E
 082296
URL:http://www.ticketmaster.com/charlie-wilson-with-kem-featuring-joe-
 new-orleans-louisiana-03-14-2015/event/1B004D908E082296?artistid=10133
 67&majorcatid=10001&minorcatid=202&tm_link=artist_msg-0_1B004D908E0822
 96
CONTACT:
ORGANIZER;CN="Editor's Pick":http://trueskool.com/profile/RentheVinylA
 rchaeologist
ATTACH;FMTTYPE="image/jpeg":http://storage.ning.com/topology/rest/1.0/
 file/get/2247972978?profile=original
ATTENDEE;ROLE=REQ-PARTICIPANT;PARTSTAT=ACCEPTED;RSVP=TRUE;CN="Editor's
  Pick":http://trueskool.com/profile/RentheVinylArchaeologist
END:VEVENT
END:VCALENDAR
