BEGIN:VCALENDAR
PRODID:NingEventWidget-v1
VERSION:2.0
METHOD:PUBLISH
BEGIN:VTIMEZONE
TZID:America/Los_Angeles
X-LIC-LOCATION:America/Los_Angeles
BEGIN:DAYLIGHT
TZOFFSETFROM:-0800
TZOFFSETTO:-0700
TZNAME:PDT
DTSTART:19700308T020000
RRULE:FREQ=YEARLY;BYMONTH=3;BYDAY=2SU
END:DAYLIGHT
BEGIN:STANDARD
TZOFFSETFROM:-0700
TZOFFSETTO:-0800
TZNAME:PST
DTSTART:19701101T020000
RRULE:FREQ=YEARLY;BYMONTH=11;BYDAY=1SU
END:STANDARD
END:VTIMEZONE
BEGIN:VEVENT
UID:1464587:Event:334457
DTSTAMP:20260421T033302Z
SUMMARY:Chance The Rapper (WIN TICKETS)
DESCRIPTION:\n Monday April 14, 2014\nChance The Rapper\nThe Warfield,
  San Francisco, CA Show time: 8:00pm. Door time: 7:00pm\nAge: All Ages
 +\n$30.00 - $42.50*\n>> BUY TICKETS\n\n\n\nFor more information visit 
 http://trueskool.com/events/chance-the-rapper
DTSTART;TZID=America/Los_Angeles:20140414T200000
DTEND;TZID=America/Los_Angeles:20140414T230000
CATEGORIES:"bay area", "san francisco"
LOCATION:The Warfield, San Francisco
WEBSITE:http://www.axs.com/events/248229/chance-the-rapper-tickets?ski
 n=goldenvoice
URL:http://www.axs.com/events/248229/chance-the-rapper-tickets?skin=go
 ldenvoice
CONTACT:
ORGANIZER:Goldenvoice
ATTACH;FMTTYPE="image/jpeg":http://storage.ning.com/topology/rest/1.0/
 file/get/2247959280?profile=original
ATTENDEE;ROLE=REQ-PARTICIPANT;PARTSTAT=ACCEPTED;RSVP=TRUE;CN="Araceli 
 Argueta":http://trueskool.com/profile/AraceliArgueta
ATTENDEE;ROLE=REQ-PARTICIPANT;PARTSTAT=ACCEPTED;RSVP=TRUE;CN="Huy Hoan
 g":http://trueskool.com/profile/HuyHoang
ATTENDEE;ROLE=REQ-PARTICIPANT;PARTSTAT=ACCEPTED;RSVP=TRUE;CN="Eric Alm
 azan":http://trueskool.com/profile/EricAlmazan
ATTENDEE;ROLE=REQ-PARTICIPANT;PARTSTAT=ACCEPTED;RSVP=TRUE;CN="James Mi
 chael Federighi":http://trueskool.com/profile/JamesMichaelFederighi
ATTENDEE;ROLE=REQ-PARTICIPANT;PARTSTAT=ACCEPTED;RSVP=TRUE;CN="Joseph K
 im":http://trueskool.com/profile/JosephKim
ATTENDEE;ROLE=REQ-PARTICIPANT;PARTSTAT=ACCEPTED;RSVP=TRUE;CN="Kaleb As
 kew":http://trueskool.com/profile/KalebAskew232
ATTENDEE;ROLE=REQ-PARTICIPANT;PARTSTAT=ACCEPTED;RSVP=TRUE;CN="Donte Ha
 rrison":http://trueskool.com/profile/DonteHarrison
ATTENDEE;ROLE=REQ-PARTICIPANT;PARTSTAT=ACCEPTED;RSVP=TRUE;CN="Staff Pi
 ck":http://trueskool.com/profile/Ren
END:VEVENT
END:VCALENDAR
