BEGIN:VCALENDAR
PRODID:NingEventWidget-v1
VERSION:2.0
METHOD:PUBLISH
BEGIN:VTIMEZONE
TZID:America/Los_Angeles
X-LIC-LOCATION:America/Los_Angeles
BEGIN:DAYLIGHT
TZOFFSETFROM:-0800
TZOFFSETTO:-0700
TZNAME:PDT
DTSTART:19700308T020000
RRULE:FREQ=YEARLY;BYMONTH=3;BYDAY=2SU
END:DAYLIGHT
BEGIN:STANDARD
TZOFFSETFROM:-0700
TZOFFSETTO:-0800
TZNAME:PST
DTSTART:19701101T020000
RRULE:FREQ=YEARLY;BYMONTH=11;BYDAY=1SU
END:STANDARD
END:VTIMEZONE
BEGIN:VEVENT
UID:1464587:Event:332377
DTSTAMP:20260420T070456Z
SUMMARY:Cell-E-Brate (final Cellspace Jam)
DESCRIPTION: Cell·e·brate (fundraiser jam for a new practice space) 
  2on2 bboy battles Judges: Profowon,Ajax,Nasty Ray  2on2 open styles b
 attles Judges:Mikey Disko,Boogie Frantic,Fluidgirl  Emcee performances
 : Orukusaki & Mahtie Bush Cellspace Honors ceremony  Djs JusJones,Madd
  the villain,KoolRaul, Smokestack,Chungtech, Son of Jorel,Mane One   L
 ive Graff art/black book session  1pm-10pm (doors open at 1pm battles 
 start 2:30 sharp)  $10 all ages event kids 12 & under free   Inner Mis
 sion (Cellspace) 2050 byrant sf.ca.94110 (b/t 18th St & 19th St in Mis
 sion)  Donation, & Volunteer Information, please contact vdh@1982@gmai
 l.com or vandor \"whacko hill\" on FB\n\nFor more information visit ht
 tp://trueskool.com/events/cell-e-brate-final-cellspace-jam
DTSTART;TZID=America/Los_Angeles:20140830T130000
DTEND;TZID=America/Los_Angeles:20140830T220000
CATEGORIES:bay, area, san, francisco, cellspace, mission, culture, fri
 sco
LOCATION:Inner Mission( formerly Cellspace), san francisco
WEBSITE:https://www.facebook.com/events/607268942700794/62064774136291
 4/?notif_t=plan_mall_activity
URL:https://www.facebook.com/events/607268942700794/620647741362914/?n
 otif_t=plan_mall_activity
CONTACT:
ORGANIZER:vandor hill
ATTACH;FMTTYPE="image/jpeg":http://storage.ning.com/topology/rest/1.0/
 file/get/2247964187?profile=original
ATTENDEE;ROLE=REQ-PARTICIPANT;PARTSTAT=ACCEPTED;RSVP=TRUE;CN="the whac
 kness":http://trueskool.com/profile/TylerDurdan
END:VEVENT
END:VCALENDAR
