BEGIN:VCALENDAR
PRODID:NingEventWidget-v1
VERSION:2.0
METHOD:PUBLISH
BEGIN:VTIMEZONE
TZID:America/Los_Angeles
X-LIC-LOCATION:America/Los_Angeles
BEGIN:DAYLIGHT
TZOFFSETFROM:-0800
TZOFFSETTO:-0700
TZNAME:PDT
DTSTART:19700308T020000
RRULE:FREQ=YEARLY;BYMONTH=3;BYDAY=2SU
END:DAYLIGHT
BEGIN:STANDARD
TZOFFSETFROM:-0700
TZOFFSETTO:-0800
TZNAME:PST
DTSTART:19701101T020000
RRULE:FREQ=YEARLY;BYMONTH=11;BYDAY=1SU
END:STANDARD
END:VTIMEZONE
BEGIN:VEVENT
UID:1464587:Event:450790
DTSTAMP:20260420T233026Z
SUMMARY:Celebration of Giving with Fantasia and Avery Sunshine [CHICAG
 O]
DESCRIPTION:\nCelebration of Giving with Fantasia and Avery Sunshine\n
 \n\n\n\nUIC ForumChicago, IL\n\nSat, 12/06/14 07:30 PM\n\n\n\n\n\nFor
  more information visit http://trueskool.com/events/celebration-of-giv
 ing-with-fantasia-and-avery-sunshine
DTSTART;TZID=America/Los_Angeles:20141206T193000
DTEND;TZID=America/Los_Angeles:20141206T210000
CATEGORIES:chicago
LOCATION:UIC Pavilion
WEBSITE:http://www.ticketmaster.com/celebration-of-giving-with-fantasi
 a-and-chicago-illinois-12-06-2014/event/04004D30C49A46BE?artistid=1438
 797&majorcatid=10001&minorcatid=202&tm_link=venue_msg-0_04004D30C49A46
 BE
URL:http://www.ticketmaster.com/celebration-of-giving-with-fantasia-an
 d-chicago-illinois-12-06-2014/event/04004D30C49A46BE?artistid=1438797&
 majorcatid=10001&minorcatid=202&tm_link=venue_msg-0_04004D30C49A46BE
CONTACT:
ORGANIZER;CN="Editor's Pick":http://trueskool.com/profile/RentheVinylA
 rchaeologist
ATTACH;FMTTYPE="image/jpeg":http://storage.ning.com/topology/rest/1.0/
 file/get/2247970157?profile=original
ATTENDEE;ROLE=REQ-PARTICIPANT;PARTSTAT=ACCEPTED;RSVP=TRUE;CN="Editor's
  Pick":http://trueskool.com/profile/RentheVinylArchaeologist
END:VEVENT
END:VCALENDAR
