BEGIN:VCALENDAR
PRODID:NingEventWidget-v1
VERSION:2.0
METHOD:PUBLISH
BEGIN:VTIMEZONE
TZID:America/Los_Angeles
X-LIC-LOCATION:America/Los_Angeles
BEGIN:DAYLIGHT
TZOFFSETFROM:-0800
TZOFFSETTO:-0700
TZNAME:PDT
DTSTART:19700308T020000
RRULE:FREQ=YEARLY;BYMONTH=3;BYDAY=2SU
END:DAYLIGHT
BEGIN:STANDARD
TZOFFSETFROM:-0700
TZOFFSETTO:-0800
TZNAME:PST
DTSTART:19701101T020000
RRULE:FREQ=YEARLY;BYMONTH=11;BYDAY=1SU
END:STANDARD
END:VTIMEZONE
BEGIN:VEVENT
UID:1464587:Event:645966
DTSTAMP:20260420T232424Z
SUMMARY:Celebrate Earth Day Festival
DESCRIPTION:Oakland City Center & SKIN Oakland Present:\nCelebrate Ear
 th Day 2015\nFriday, April 22nd\nÂ \nMusic | Culture | Art | Education
 al Booths | Earth Day Games | Family Fun\n\n\nYou are warmly invited t
 o celebrate the 46th Anniversary of Earth Day at City Center Plaza in 
 beautiful downtown Oakland. Please join us for an afternoon of soulful
  fun and eco-activism, featuring live entertainment with DJ Cecil with
  percussionist Jeff Pierre & dance performances by MVMNT Studios. Weâ€
 ™ll also be welcoming local artisans as well as educational booths, in
 formation on green living & sustainability, recycling, energy conserva
 tion and more!\nÂ \nCelebrate Earth Day 2015\nFeaturing:\nDJ Cecil\nJe
 ff Pierre\nMVMNT Studios\nÂ \nFriday April 22nd, 2015\nOakland City Ce
 nter Plaza\n1111 Broadway | Noon - 2pm\nOakland, CA | All Ages | Wheel
 chair & BART Accessible\nÂ \nINFO:\nhttp://www.oaklandcitycenter.com\n
 http://www.skinworldwide.net\nSpecial Thanks To: Brass Bone & Honey, C
 andid Arts, Grid Alternatives, Imperfect Produce, Mandela Foods Coop, 
 MVMNT Studios, Oakland City Center, PEACE Fits and SKIN Cultural Arts 
 Collective for their invaluable presence and support.\n\nFor more info
 rmation visit http://trueskool.com/events/celebrate-earth-day-festival
DTSTART;TZID=America/Los_Angeles:20160422T120000
DTEND;TZID=America/Los_Angeles:20160422T140000
CATEGORIES:east, bay, area, oakland, california, northern, califas
LOCATION:Oakland City Center Plaza, Oakland
WEBSITE:http://skinworldwide.net/?p=701
URL:http://skinworldwide.net/?p=701
CONTACT:510.629.1855
ORGANIZER;CN="miss candi":http://trueskool.com/profile/misscandi
ATTACH;FMTTYPE="image/jpeg":http://storage.ning.com/topology/rest/1.0/
 file/get/2247985233?profile=original
ATTENDEE;ROLE=REQ-PARTICIPANT;PARTSTAT=ACCEPTED;RSVP=TRUE;CN="miss can
 di":http://trueskool.com/profile/misscandi
END:VEVENT
END:VCALENDAR
