BEGIN:VCALENDAR
PRODID:NingEventWidget-v1
VERSION:2.0
METHOD:PUBLISH
BEGIN:VTIMEZONE
TZID:America/Los_Angeles
X-LIC-LOCATION:America/Los_Angeles
BEGIN:DAYLIGHT
TZOFFSETFROM:-0800
TZOFFSETTO:-0700
TZNAME:PDT
DTSTART:19700308T020000
RRULE:FREQ=YEARLY;BYMONTH=3;BYDAY=2SU
END:DAYLIGHT
BEGIN:STANDARD
TZOFFSETFROM:-0700
TZOFFSETTO:-0800
TZNAME:PST
DTSTART:19701101T020000
RRULE:FREQ=YEARLY;BYMONTH=11;BYDAY=1SU
END:STANDARD
END:VTIMEZONE
BEGIN:VEVENT
UID:1464587:Event:625694
DTSTAMP:20260421T073046Z
SUMMARY:Celebrate Earth Day 2015
DESCRIPTION:Oakland City Center & SKIN World Wide Present:\nCelebrate 
 Earth Day 2015\nWednesday, April 22nd\n \nMusic | Culture | Art | Edu
 cational Booths | Earth Day Games | Family Fun\nIn honor of the 45th A
 nniversary of Earth Day, Skin World Wide is proud to participate in 
 Celebrate Earth Day” at City Center Plaza in beautiful downtown Oak
 land. Please join us for an afternoon of soulful fun and eco-activism,
  featuring live entertainment with DJ Cecil + Percussionist Ajayi Jack
 son, Samba Queen Cherri Hicks & Special Surprise Guests.\n \nWe’ll 
 also be welcoming local artisans Alouba Arts, Azteca Negra, Clothes Fo
 r The Soul, James Gayles & Ritual By Design as well as educational boo
 ths, information on green living & sustainability, recycling, energy c
 onservation and more!\n\nCelebrate Earth Day 2015\nWednesday April 22n
 d, 2015\nOakland City Center Plaza\n1111 Broadway | Noon - 2pm\nOaklan
 d, CA | All Ages | Wheelchair & BART Accessible\n\nINFO / MUSIC:\nhttp
 ://www.skinworldwide.net\nhttp://www.oaklandcitycenter.com\n  Special 
 Thanks To: Alouba Arts, Azteca Negra, Clean Water Action, Clothes For 
 The Soul, Core Foods, Earth Share California, Go Box, James Gayles, Ri
 sing Sun Energy Center, Ritual By Design, Sivinti and Squeak for their
  invaluable presence and support.\n\nFor more information visit http:/
 /trueskool.com/events/celebrate-earth-day-2015
DTSTART;TZID=America/Los_Angeles:20150422T120000
DTEND;TZID=America/Los_Angeles:20150422T140000
CATEGORIES:city, center, plaza, oakland, ca
LOCATION:City Center Plaza
WEBSITE:http://www.skinworldwide.net
URL:http://www.skinworldwide.net
CONTACT:510.629.1855
ORGANIZER;CN="miss candi":http://trueskool.com/profile/misscandi
ATTACH;FMTTYPE="image/jpeg":http://storage.ning.com/topology/rest/1.0/
 file/get/2247975782?profile=original
ATTENDEE;ROLE=REQ-PARTICIPANT;PARTSTAT=ACCEPTED;RSVP=TRUE;CN="miss can
 di":http://trueskool.com/profile/misscandi
END:VEVENT
END:VCALENDAR
