BEGIN:VCALENDAR
PRODID:NingEventWidget-v1
VERSION:2.0
METHOD:PUBLISH
BEGIN:VTIMEZONE
TZID:America/Los_Angeles
X-LIC-LOCATION:America/Los_Angeles
BEGIN:DAYLIGHT
TZOFFSETFROM:-0800
TZOFFSETTO:-0700
TZNAME:PDT
DTSTART:19700308T020000
RRULE:FREQ=YEARLY;BYMONTH=3;BYDAY=2SU
END:DAYLIGHT
BEGIN:STANDARD
TZOFFSETFROM:-0700
TZOFFSETTO:-0800
TZNAME:PST
DTSTART:19701101T020000
RRULE:FREQ=YEARLY;BYMONTH=11;BYDAY=1SU
END:STANDARD
END:VTIMEZONE
BEGIN:VEVENT
UID:1464587:Event:650122
DTSTAMP:20260420T134442Z
SUMMARY:CeeLo @ The Independent SF (7/21) (WIN TICKETS)
DESCRIPTION: ENTER TO WIN A PAIR OF TICKETS. WINNER WILL BE DRAWN RAND
 OMLY AND ANNOUNCED 2 DAYS PRIOR TO EVENT.   \n\nThursday, July 21, 
 2016\nCeeLo Nikki’s Wives\n The Independent San Francisco, CA Show: 
 9:00pm\n\n\nFor more information visit http://trueskool.com/events/cee
 lo
DTSTART;TZID=America/Los_Angeles:20160721T210000
DTEND;TZID=America/Los_Angeles:20160721T230000
CATEGORIES:"san francisco", oakland, berkley, "san jose", "bay area"
LOCATION:The Independent, San Francisco
WEBSITE:https://www.ticketfly.com/purchase/event/1203613?utm_medium=bk
 s%3Fcamefrom%3DCFC_ANOTHERPLANET_web&brand=anotherplanet&q=2e526bda-a0
 7d-4b2c-b7e1-32ddc33caa7f&p=52990c99-9790-4f5e-9958-6a94f09b8356&ts=14
 64517063&c=ticketfly&e=0010a&rt=Safetynet&h=90493928bf617806c85a569681
 337fa6
URL:https://www.ticketfly.com/purchase/event/1203613?utm_medium=bks%3F
 camefrom%3DCFC_ANOTHERPLANET_web&brand=anotherplanet&q=2e526bda-a07d-4
 b2c-b7e1-32ddc33caa7f&p=52990c99-9790-4f5e-9958-6a94f09b8356&ts=146451
 7063&c=ticketfly&e=0010a&rt=Safetynet&h=90493928bf617806c85a569681337f
 a6
CONTACT:
ORGANIZER;CN="Editor's Pick":http://trueskool.com/profile/RentheVinylA
 rchaeologist
ATTACH;FMTTYPE="image/jpeg":http://storage.ning.com/topology/rest/1.0/
 file/get/2247988618?profile=original
ATTENDEE;ROLE=REQ-PARTICIPANT;PARTSTAT=ACCEPTED;RSVP=TRUE;CN="Nancy La
 ws":http://trueskool.com/profile/NancyLaws
ATTENDEE;ROLE=REQ-PARTICIPANT;PARTSTAT=ACCEPTED;RSVP=TRUE;CN="Editor's
  Pick":http://trueskool.com/profile/RentheVinylArchaeologist
ATTENDEE;ROLE=REQ-PARTICIPANT;PARTSTAT=ACCEPTED;RSVP=TRUE;CN="Elisa Bj
 eldanes":http://trueskool.com/profile/ElisaBjeldanes
END:VEVENT
END:VCALENDAR
