BEGIN:VCALENDAR
PRODID:NingEventWidget-v1
VERSION:2.0
METHOD:PUBLISH
BEGIN:VTIMEZONE
TZID:America/Los_Angeles
X-LIC-LOCATION:America/Los_Angeles
BEGIN:DAYLIGHT
TZOFFSETFROM:-0800
TZOFFSETTO:-0700
TZNAME:PDT
DTSTART:19700308T020000
RRULE:FREQ=YEARLY;BYMONTH=3;BYDAY=2SU
END:DAYLIGHT
BEGIN:STANDARD
TZOFFSETFROM:-0700
TZOFFSETTO:-0800
TZNAME:PST
DTSTART:19701101T020000
RRULE:FREQ=YEARLY;BYMONTH=11;BYDAY=1SU
END:STANDARD
END:VTIMEZONE
BEGIN:VEVENT
UID:1464587:Event:85355
DTSTAMP:20260420T150552Z
SUMMARY:Carnaval Ball 2011 Feat: J.Boog, Los Rakas, Loco Bloco + much 
 much more...
DESCRIPTION:Angel Magik, Earshot Entertainment, & Jaffe Events Present
 :The Official Carnival Ball 2011 @ Mighty SF Featuring J.Boog (With l
 ive band) & Los RakasAlso Performing live: Native Elements, Loco Bloco
 , Young Fyah, Sambaxé Carnival Dancers & Drummers, and much more... E
 xpect to see some serious surprise guests!!!Plus DJs: Jah Yzer (Jah Wa
 rrior shelter), DJ Green B+ Danekah (cooyah), DJ Senseless (Awticalz I
 ntl Sound/Street Vybz), DJ serg, Walt Digz, & DJ Alfie1Bateria.Limited
  Capacity, this show is Guaranteed to sell out!!!!!! Feel Free to wear
  your Carnival Costumes!For more info, tickets, and videos click here:
 http://sfcarnivalball2011.eventbrite.com/\n\nFor more information visi
 t http://trueskool.com/events/carnaval-ball-2011-feat-jboog
DTSTART;TZID=America/Los_Angeles:20110529T200000
DTEND;TZID=America/Los_Angeles:20110530T040000
CATEGORIES:san, francisco, ca
LOCATION:MIghty/San Francisco
WEBSITE:http://sfcarnivalball2011.eventbrite.com/
URL:http://sfcarnivalball2011.eventbrite.com/
CONTACT:
ORGANIZER:Earshot Entertainment, Angel Magik, & Jaffe Events
ATTACH;FMTTYPE="image/jpeg":http://storage.ning.com/topology/rest/1.0/
 file/get/2247896409?profile=original
ATTENDEE;ROLE=REQ-PARTICIPANT;PARTSTAT=ACCEPTED;RSVP=TRUE;CN="Mars Tod
 ay":http://trueskool.com/profile/MrMarsToday
END:VEVENT
END:VCALENDAR
