BEGIN:VCALENDAR
PRODID:NingEventWidget-v1
VERSION:2.0
METHOD:PUBLISH
BEGIN:VTIMEZONE
TZID:America/Los_Angeles
X-LIC-LOCATION:America/Los_Angeles
BEGIN:DAYLIGHT
TZOFFSETFROM:-0800
TZOFFSETTO:-0700
TZNAME:PDT
DTSTART:19700308T020000
RRULE:FREQ=YEARLY;BYMONTH=3;BYDAY=2SU
END:DAYLIGHT
BEGIN:STANDARD
TZOFFSETFROM:-0700
TZOFFSETTO:-0800
TZNAME:PST
DTSTART:19701101T020000
RRULE:FREQ=YEARLY;BYMONTH=11;BYDAY=1SU
END:STANDARD
END:VTIMEZONE
BEGIN:VEVENT
UID:1464587:Event:426548
DTSTAMP:20260421T074016Z
SUMMARY:BRUNCH WITH BENEFITS feat DJ JEREMY SOLE (KCRW)
DESCRIPTION:Flavorpill has teamed up with Naked Juice to present Brunc
 h with Benefits, a brunch-time dance party with a purpose !\nOn this S
 aturday 9/13, head to Public Works for two hours of dancing, thanks to
  deep and tasty tunes from DJ Jeremy Sole of KCRW and theLIFT + delici
 ous Brunch bites, and of course Naked Juice.\nThe best part about this
  party: your get down will do good. Reps from nonprofit Wholesome Wave
  will be on-site to accept your donations to help wipe out food desert
 s. In partnership with local farmers, Wholesome Wave provides fresh fr
 uits and vegetables to neighborhoods in need.\nhttp://www.wholesomewav
 e.org/\nRSVP now! http://thehookup.flavorpill.com/brunch-with-benefits
 -sf/\n\nFor more information visit http://trueskool.com/events/brunch-
 with-benefits-feat-dj-jeremy-sole-kcrw
DTSTART;TZID=America/Los_Angeles:20140913T110000
DTEND;TZID=America/Los_Angeles:20140913T130000
CATEGORIES:san, francisco, bay, area
LOCATION:Public Works, San Francisco, CA
WEBSITE:http://thehookup.flavorpill.com/brunch-with-benefits-sf/
URL:http://thehookup.flavorpill.com/brunch-with-benefits-sf/
CONTACT:
ORGANIZER:Flavorpill / Public Works
ATTACH;FMTTYPE="image/jpeg":http://storage.ning.com/topology/rest/1.0/
 file/get/2247968027?profile=original
ATTENDEE;ROLE=REQ-PARTICIPANT;PARTSTAT=ACCEPTED;RSVP=TRUE;CN="Jonathan
  Rudnick":http://trueskool.com/profile/JonathanRudnick
END:VEVENT
END:VCALENDAR
