BEGIN:VCALENDAR
PRODID:NingEventWidget-v1
VERSION:2.0
METHOD:PUBLISH
BEGIN:VTIMEZONE
TZID:America/Los_Angeles
X-LIC-LOCATION:America/Los_Angeles
BEGIN:DAYLIGHT
TZOFFSETFROM:-0800
TZOFFSETTO:-0700
TZNAME:PDT
DTSTART:19700308T020000
RRULE:FREQ=YEARLY;BYMONTH=3;BYDAY=2SU
END:DAYLIGHT
BEGIN:STANDARD
TZOFFSETFROM:-0700
TZOFFSETTO:-0800
TZNAME:PST
DTSTART:19701101T020000
RRULE:FREQ=YEARLY;BYMONTH=11;BYDAY=1SU
END:STANDARD
END:VTIMEZONE
BEGIN:VEVENT
UID:1464587:Event:608519
DTSTAMP:20260421T030928Z
SUMMARY:BRKN INTL BREAKDANCE BATTLE
DESCRIPTION:Come down and check out some of the hottest up and coming 
 b-boys in the Bay Area! Explosive battles, live cyphers, dope music, s
 treetwear vendors and community vibes!   Check the full event info on
  Facebook at:  https://www.facebook.com/events/394890474023829\n\nFor
  more information visit http://trueskool.com/events/brkn-intl-breakdan
 ce-battle
DTSTART;TZID=America/Los_Angeles:20150328T180000
DTEND;TZID=America/Los_Angeles:20150328T220000
CATEGORIES:berkeley
LOCATION:Mvmnt Studio, Berkeley, CA
WEBSITE:https://www.facebook.com/events/394890474023829
URL:https://www.facebook.com/events/394890474023829
CONTACT:(415) 748 0152
ORGANIZER:Brkn Intl
ATTACH;FMTTYPE="image/jpeg":http://storage.ning.com/topology/rest/1.0/
 file/get/2202952447?profile=original
ATTENDEE;ROLE=REQ-PARTICIPANT;PARTSTAT=ACCEPTED;RSVP=TRUE;CN="Danny Di
 bble":http://trueskool.com/profile/DannyDibble
END:VEVENT
END:VCALENDAR
