BEGIN:VCALENDAR
PRODID:NingEventWidget-v1
VERSION:2.0
METHOD:PUBLISH
BEGIN:VTIMEZONE
TZID:America/Los_Angeles
X-LIC-LOCATION:America/Los_Angeles
BEGIN:DAYLIGHT
TZOFFSETFROM:-0800
TZOFFSETTO:-0700
TZNAME:PDT
DTSTART:19700308T020000
RRULE:FREQ=YEARLY;BYMONTH=3;BYDAY=2SU
END:DAYLIGHT
BEGIN:STANDARD
TZOFFSETFROM:-0700
TZOFFSETTO:-0800
TZNAME:PST
DTSTART:19701101T020000
RRULE:FREQ=YEARLY;BYMONTH=11;BYDAY=1SU
END:STANDARD
END:VTIMEZONE
BEGIN:VEVENT
UID:1464587:Event:555060
DTSTAMP:20260421T000458Z
SUMMARY:Brian McKnight (Pennsylvania)
DESCRIPTION:\nDate\nLocation\nEvent Details\nFind Tickets\n\n\nMAY  
 \n8\nFRI\n\nKeswick TheatreGlenside, PA 08:00 PM\n\nBrain McKnight Tr
 io Details: Brian McKnight\nSee Ticketson Partner Site\n\n\n\n\n\nFor 
 more information visit http://trueskool.com/events/brian-mcknight-1
DTSTART;TZID=America/Los_Angeles:20150508T200000
DTEND;TZID=America/Los_Angeles:20150508T230000
CATEGORIES:philadelphia, pa, pennsylvania, philly, glenside
LOCATION:Keswick Theatre, Glenside
WEBSITE:http://www.ticketmaster.com/partner_redirect?v=R_VKYHgHtYhPkwj
 Op7xAu7DqqU9WK-Sm-eQfFNGVIo-neEgXvJ7daHhnY1A90vygn4dlpXY1gVakWxSoGWYbb
 UCrKnlC6IrEnSkqJDrF--XvVyjwK_euS2f8MmToL-28IJgoiNzNF_dVwptXaBt0OAGyCWE
 KNyKth1MP&eventid=2B004D91C83B0C00&artistid=752623&artistname=Brain%20
 McKnight%20Trio
URL:http://www.ticketmaster.com/partner_redirect?v=R_VKYHgHtYhPkwjOp7x
 Au7DqqU9WK-Sm-eQfFNGVIo-neEgXvJ7daHhnY1A90vygn4dlpXY1gVakWxSoGWYbbUCrK
 nlC6IrEnSkqJDrF--XvVyjwK_euS2f8MmToL-28IJgoiNzNF_dVwptXaBt0OAGyCWEKNyK
 th1MP&eventid=2B004D91C83B0C00&artistid=752623&artistname=Brain%20McKn
 ight%20Trio
CONTACT:
ORGANIZER;CN="Editor's Pick":http://trueskool.com/profile/RentheVinylA
 rchaeologist
ATTACH;FMTTYPE="image/jpeg":http://storage.ning.com/topology/rest/1.0/
 file/get/2247944402?profile=original
ATTENDEE;ROLE=REQ-PARTICIPANT;PARTSTAT=ACCEPTED;RSVP=TRUE;CN="Editor's
  Pick":http://trueskool.com/profile/RentheVinylArchaeologist
END:VEVENT
END:VCALENDAR
