BEGIN:VCALENDAR
PRODID:NingEventWidget-v1
VERSION:2.0
METHOD:PUBLISH
BEGIN:VTIMEZONE
TZID:America/Los_Angeles
X-LIC-LOCATION:America/Los_Angeles
BEGIN:DAYLIGHT
TZOFFSETFROM:-0800
TZOFFSETTO:-0700
TZNAME:PDT
DTSTART:19700308T020000
RRULE:FREQ=YEARLY;BYMONTH=3;BYDAY=2SU
END:DAYLIGHT
BEGIN:STANDARD
TZOFFSETFROM:-0700
TZOFFSETTO:-0800
TZNAME:PST
DTSTART:19701101T020000
RRULE:FREQ=YEARLY;BYMONTH=11;BYDAY=1SU
END:STANDARD
END:VTIMEZONE
BEGIN:VEVENT
UID:1464587:Event:652197
DTSTAMP:20260420T205743Z
SUMMARY:Break 4 Tots: Back To School Jam
DESCRIPTION:Join us on August 26, 2016 to help Break 4 Tots serve the 
 community one break at a time. Since 2005 Break 4 Tots has produced Hi
 p-hop events as a means to bring our communities together, provide a s
 pace for the Hip-hop community to give back, and to provide services t
 o youth programs locally and globally.Â Â   This year we are asking at
 tendees to donate school suppies that will benefit schools and program
 s in the Bay Area and in the Philippines via Salupongan International.
 Â Â   Proceeds beneift the Break 4 Tots Scholarship Fund. Break 4 Tots
  is awarding a scholarship to Hip-hop practitioners who are attending 
 or will be attending college with the purpose of serving youth throuh 
 Hip-hop arts.Â Â   Salupongan International (SI) is a solidarity netwo
 rk of organizations, institutions and individuals dedicated to the uni
 ty and empowerment of marginalized rural communities in Southern Phili
 ppines through international solidarity, campaigns advocacy and basic 
 social services.  Genreal admission: $5-$10 sliding scaleÂ  $3 w/ scho
 ol supply donationÂ  Youth 12 and under FREE (All proceeds benefits Ea
 st Side Arts Alliance and Break 4 Tots programs)Â   ***This is a Drug 
 and Alcohol free event***Â   ***3 rooms of Funk and Hip-hop culture***
 Â   Room 1: Funk, Turf, & All-styles -All-styles open cypherÂ Â  -Yout
 h dance workshopsÂ   Room 2: Turntablist Room (Hosted by Skratch Fight
 )Â  -Scratch lessons for youthÂ Â  -Open turntables for the DJ'sÂ Â  -
 Record swap  Room 3: The Breaks Outdoor Pagoda (Hosted by Neil Yuzon)Â
  Â  -2 on 2 B-boy/girl Competition  Judges:Â  Blakk (Cloud 9 Tribe/Ren
 egade Rockers) Power Serge (Beatz n Pieces/All The Way Live) Profo (Fl
 oorGangz)Â   -Cypher King/Queen Competition w/ The Gemstone BandÂ Â  B
 -boys and girls will be getting down to live breaks played by The Gems
 tone bande in one cypher while MC's take turns rocking the mic. One MC
  and one B-boy or girl will be awarded as King or Queen of the Cypher.
 Â Â   Cash prize, trophy, gear and 2 tickets to Freestye Session World
  FinalsÂ   -Live Aerosal Art + Community Mural WallÂ   +Special guest 
 appreancesÂ  +Live performances in each room +Community and youth orga
 nizations will be presentÂ  +BBQ and refreshementsÂ Â   DJ's: Mighty D
 elrokz Milan BeatsMe Hawthorne Mighty Jay Mac TD Camp DJ Zobe + more t
 baÂ Â   Cypher MC's: Do Dat Paulie Ryhme Orukusaki KenshoÂ  UnLearn Th
 e WorldÂ  +more tbaÂ   Can't make the event? Support our GoFundMe and 
 help us continue serving the community one break at a time:Â https://w
 ww.gofundme.com/break4totsÂ   This event is a community effort brought
  to you by: Break 4 Tots, East Side Arts Alliance, Cloud 9 Tribe, Univ
 ersal Bboy Clothing, All Tribes SF, Kev Omoaghe Akhidenor, Jared Jay M
 ac McPherson and overseen and currated by Gabriel De la Cruz (THE MIGH
 TY DJ DELROKZ)Â Â   For more info, vending, or competition registratio
 n contact Gabriel de la Cruz via e-mail at break4tots@gmail.com\n\n\n\
 nFor more information visit http://trueskool.com/events/break-4-tots-b
 ack-to-school-jam
DTSTART;TZID=America/Los_Angeles:20160826T180000
DTEND;TZID=America/Los_Angeles:20160826T230000
CATEGORIES:"bay area", oakland, "community event", hip-hop, "all ages"
LOCATION:East Side Arts Alliance
WEBSITE:
URL:
CONTACT:
ORGANIZER:Break 4 Tots
ATTACH;FMTTYPE="image/jpeg":http://storage.ning.com/topology/rest/1.0/
 file/get/2247989763?profile=original
ATTENDEE;ROLE=REQ-PARTICIPANT;PARTSTAT=ACCEPTED;RSVP=TRUE;CN="Gabriel 
 Nicholas":http://trueskool.com/profile/GabrielNicholas
END:VEVENT
END:VCALENDAR
