BEGIN:VCALENDAR
PRODID:NingEventWidget-v1
VERSION:2.0
METHOD:PUBLISH
BEGIN:VTIMEZONE
TZID:America/Los_Angeles
X-LIC-LOCATION:America/Los_Angeles
BEGIN:DAYLIGHT
TZOFFSETFROM:-0800
TZOFFSETTO:-0700
TZNAME:PDT
DTSTART:19700308T020000
RRULE:FREQ=YEARLY;BYMONTH=3;BYDAY=2SU
END:DAYLIGHT
BEGIN:STANDARD
TZOFFSETFROM:-0700
TZOFFSETTO:-0800
TZNAME:PST
DTSTART:19701101T020000
RRULE:FREQ=YEARLY;BYMONTH=11;BYDAY=1SU
END:STANDARD
END:VTIMEZONE
BEGIN:VEVENT
UID:1464587:Event:657081
DTSTAMP:20260421T084011Z
SUMMARY:BRAZA! Brazilian Funk Dance Party - NYE Kickoff & 7 Year Anniv
 ersary
DESCRIPTION:BRAZA is turning 7 and we thought you would love to kicko
 ff your new year’s festivities with yo Brazilian family here! We org
 anized a special pre-NYE event with the Bay Area’s finest bands and 
 DJs. Of course, if you’ve been to our events before you know everyon
 e who walks into BRAZA! land is considered Brazilian at heart. So, don
 ’t be shy and join us for a dazzling celebration.INSTAPROMO: 5 FREE 
 TICKETS+1 BOTTLE OF CAVA: http://bit.ly/2fmF6Hv (exclusive on instag
 ram | Ends on 12/20/16 at 12am | Must be 21+ to participate)./// Artis
 t Lineup /// Antonio Guedes & The Chillaquiles LINKS:Watch: https
 ://www.youtube.com/watch?v=bT0bzAxRePwWebsite: http://chillaquiles.co
 m/Maracatu PacificoDJ ELAN KAMESAR (Resident)DJ Izzy Wise (Hi-Life /
  Afrolicious)Daring Arts Movement - D.A.M\n/// SPECIAL GUEST MUSICIAN 
 /// Romeu Ribeiro (Brazil Vox)\n\nFor more information visit http://
 trueskool.com/events/braza-brazilian-funk-dance-party-nye-kickoff-7-ye
 ar-anniversary
DTSTART;TZID=America/Los_Angeles:20161229T200000
DTEND;TZID=America/Los_Angeles:20161230T020000
CATEGORIES:brazilian, break, beat, funk, hip, hop
LOCATION:The Chapel SF
WEBSITE:http://www.ticketfly.com/event/1377282-braza-s-7-year-annivers
 ary-san-francisco/
URL:http://www.ticketfly.com/event/1377282-braza-s-7-year-anniversary-
 san-francisco/
CONTACT:
ORGANIZER;CN="Antonio Guedes":http://trueskool.com/profile/AntonioGued
 es
ATTACH;FMTTYPE="image/jpeg":http://storage.ning.com/topology/rest/1.0/
 file/get/2247992829?profile=original
ATTENDEE;ROLE=REQ-PARTICIPANT;PARTSTAT=ACCEPTED;RSVP=TRUE;CN="Antonio 
 Guedes":http://trueskool.com/profile/AntonioGuedes
END:VEVENT
END:VCALENDAR
