BEGIN:VCALENDAR
PRODID:NingEventWidget-v1
VERSION:2.0
METHOD:PUBLISH
BEGIN:VTIMEZONE
TZID:America/Los_Angeles
X-LIC-LOCATION:America/Los_Angeles
BEGIN:DAYLIGHT
TZOFFSETFROM:-0800
TZOFFSETTO:-0700
TZNAME:PDT
DTSTART:19700308T020000
RRULE:FREQ=YEARLY;BYMONTH=3;BYDAY=2SU
END:DAYLIGHT
BEGIN:STANDARD
TZOFFSETFROM:-0700
TZOFFSETTO:-0800
TZNAME:PST
DTSTART:19701101T020000
RRULE:FREQ=YEARLY;BYMONTH=11;BYDAY=1SU
END:STANDARD
END:VTIMEZONE
BEGIN:VEVENT
UID:1464587:Event:662560
DTSTAMP:20260421T204018Z
SUMMARY:BODY ROCK w MR. SONNY JAMES
DESCRIPTION:Illvibe Collective's staple Philadelphia party heads west
  with Mr. Sonny James & Friends.\nIllvibe & Mark Divita Present:  BODY
 ROCK  w/ Resident  Mr. Sonny James  John Colins 138 Minna St. San Fran
 cisco, CA Cover After 11pm 21 w/id https://www.mrsonnyjames.com https:
 //www.illvibe.com #BODYROCKsf\n\nFor more information visit http://tru
 eskool.com/events/body-rock-w-mr-sonny-james-1
DTSTART;TZID=America/Los_Angeles:20170520T220000
DTEND;TZID=America/Los_Angeles:20170521T020000
CATEGORIES:san, francisco, soma, financial, district
LOCATION:John Colins, San Francisco, CA
WEBSITE:https://www.eventbrite.com/facebook-publish?eid=34605654444
URL:https://www.eventbrite.com/facebook-publish?eid=34605654444
CONTACT:
ORGANIZER;CN=JohnColins:http://trueskool.com/profile/JohnColins27
ATTACH;FMTTYPE="image/jpeg":http://storage.ning.com/topology/rest/1.0/
 file/get/2247996963?profile=original
ATTENDEE;ROLE=REQ-PARTICIPANT;PARTSTAT=ACCEPTED;RSVP=TRUE;CN=JohnColin
 s:http://trueskool.com/profile/JohnColins27
END:VEVENT
END:VCALENDAR
