BEGIN:VCALENDAR
PRODID:NingEventWidget-v1
VERSION:2.0
METHOD:PUBLISH
BEGIN:VTIMEZONE
TZID:America/Los_Angeles
X-LIC-LOCATION:America/Los_Angeles
BEGIN:DAYLIGHT
TZOFFSETFROM:-0800
TZOFFSETTO:-0700
TZNAME:PDT
DTSTART:19700308T020000
RRULE:FREQ=YEARLY;BYMONTH=3;BYDAY=2SU
END:DAYLIGHT
BEGIN:STANDARD
TZOFFSETFROM:-0700
TZOFFSETTO:-0800
TZNAME:PST
DTSTART:19701101T020000
RRULE:FREQ=YEARLY;BYMONTH=11;BYDAY=1SU
END:STANDARD
END:VTIMEZONE
BEGIN:VEVENT
UID:1464587:Event:649460
DTSTAMP:20260420T102349Z
SUMMARY:Blackalicious
DESCRIPTION:   FRIDAY, MAY 13\nBlackalicious Lance Is A Genius  Pure P
 owers\n@ Slim's, San Francisco  Tickets are $25 advance/door\n>> BUY T
 ICKETS\n\n\nFor more information visit http://trueskool.com/events/bla
 ckalicious-win-tickets-3
DTSTART;TZID=America/Los_Angeles:20160513T210000
DTEND;TZID=America/Los_Angeles:20160513T230000
CATEGORIES:"bay area", "san francisco"
LOCATION:Slim's, San Francisco
WEBSITE:http://www.slimspresents.com/event/blackalicious-slims/
URL:http://www.slimspresents.com/event/blackalicious-slims/
CONTACT:
ORGANIZER:Slim's
ATTACH;FMTTYPE="image/jpeg":http://storage.ning.com/topology/rest/1.0/
 file/get/2247988038?profile=original
ATTENDEE;ROLE=REQ-PARTICIPANT;PARTSTAT=ACCEPTED;RSVP=TRUE;CN="Editor's
  Pick":http://trueskool.com/profile/RentheVinylArchaeologist
END:VEVENT
END:VCALENDAR
