BEGIN:VCALENDAR
PRODID:NingEventWidget-v1
VERSION:2.0
METHOD:PUBLISH
BEGIN:VTIMEZONE
TZID:America/Los_Angeles
X-LIC-LOCATION:America/Los_Angeles
BEGIN:DAYLIGHT
TZOFFSETFROM:-0800
TZOFFSETTO:-0700
TZNAME:PDT
DTSTART:19700308T020000
RRULE:FREQ=YEARLY;BYMONTH=3;BYDAY=2SU
END:DAYLIGHT
BEGIN:STANDARD
TZOFFSETFROM:-0700
TZOFFSETTO:-0800
TZNAME:PST
DTSTART:19701101T020000
RRULE:FREQ=YEARLY;BYMONTH=11;BYDAY=1SU
END:STANDARD
END:VTIMEZONE
BEGIN:VEVENT
UID:1464587:Event:655152
DTSTAMP:20260420T221513Z
SUMMARY:Black Panther Party 50th year anniversary - rally & concert!
DESCRIPTION:October 2016 marks the 50th anniversary of the legendary o
 rganization,The Black Panther Party. To celebrate this moment, origina
 l members of the Panthers and progressive people from all over the wor
 ld from all races and ages will descend on Oakland, California for fou
 r days of amazing speeches, panels and musical performers from Oct 20-
 23rd.HipHopTV in conjunction with Steelo Entertainment are producing t
 he ultimate Tribute to the Black Panther Party with a rally and concer
 t at Frank Ogawa Plaza on Saturday Oct. 22nd - 11-5pm. \n\nFor more i
 nformation visit http://trueskool.com/events/black-panther-party-50th-
 year-anniversary-rally-concert
DTSTART;TZID=America/Los_Angeles:20161022T110000
DTEND;TZID=America/Los_Angeles:20161022T170000
CATEGORIES:"san francisco", oakland, berkley, "san jose", "bay area"
LOCATION:Frank Ogawa Plaza
WEBSITE:https://www.facebook.com/events/677688082396323/
URL:https://www.facebook.com/events/677688082396323/
CONTACT:
ORGANIZER;CN="Editor's Pick":http://trueskool.com/profile/RentheVinylA
 rchaeologist
ATTACH;FMTTYPE="image/jpeg":http://storage.ning.com/topology/rest/1.0/
 file/get/2247992375?profile=original
ATTENDEE;ROLE=REQ-PARTICIPANT;PARTSTAT=ACCEPTED;RSVP=TRUE;CN="Editor's
  Pick":http://trueskool.com/profile/RentheVinylArchaeologist
END:VEVENT
END:VCALENDAR
