BEGIN:VCALENDAR
PRODID:NingEventWidget-v1
VERSION:2.0
METHOD:PUBLISH
BEGIN:VTIMEZONE
TZID:America/Los_Angeles
X-LIC-LOCATION:America/Los_Angeles
BEGIN:DAYLIGHT
TZOFFSETFROM:-0800
TZOFFSETTO:-0700
TZNAME:PDT
DTSTART:19700308T020000
RRULE:FREQ=YEARLY;BYMONTH=3;BYDAY=2SU
END:DAYLIGHT
BEGIN:STANDARD
TZOFFSETFROM:-0700
TZOFFSETTO:-0800
TZNAME:PST
DTSTART:19701101T020000
RRULE:FREQ=YEARLY;BYMONTH=11;BYDAY=1SU
END:STANDARD
END:VTIMEZONE
BEGIN:VEVENT
UID:1464587:Event:652313
DTSTAMP:20260420T170310Z
SUMMARY:BLACK MILK WITH LIVE BAND NAT TURNER
DESCRIPTION:\nThursday, Jul 28, 2016 BLACK MILK WITH LIVE BAND NAT TUR
 NER\n@ Brick & Mortar, San Francisco  Ticket Price: $15.00 - $18.00\nD
 oor Time: 8:00 PM. Show: 9:00 PM  Restrictions: 18 & over Under 21 mus
 t buy $5 non-alcoholic drink ticket at the door.\n>> BUY TICKETS \n\nF
 or more information visit http://trueskool.com/events/black-milk-with-
 live-band-nat-turner
DTSTART;TZID=America/Los_Angeles:20160728T200000
DTEND;TZID=America/Los_Angeles:20160728T230000
CATEGORIES:"bay area", "san francisco"
LOCATION:Brick & Mortar, San Francisco
WEBSITE:http://brickandmortarmusic.com/event.cfm?id=237326&cart
URL:http://brickandmortarmusic.com/event.cfm?id=237326&cart
CONTACT:
ORGANIZER:Tastemaker Live & Sean Healy
ATTACH;FMTTYPE="image/jpeg":http://storage.ning.com/topology/rest/1.0/
 file/get/2247989665?profile=original
ATTENDEE;ROLE=REQ-PARTICIPANT;PARTSTAT=ACCEPTED;RSVP=TRUE;CN="Editor's
  Pick":http://trueskool.com/profile/RentheVinylArchaeologist
END:VEVENT
END:VCALENDAR
