BEGIN:VCALENDAR
PRODID:NingEventWidget-v1
VERSION:2.0
METHOD:PUBLISH
BEGIN:VTIMEZONE
TZID:America/Los_Angeles
X-LIC-LOCATION:America/Los_Angeles
BEGIN:DAYLIGHT
TZOFFSETFROM:-0800
TZOFFSETTO:-0700
TZNAME:PDT
DTSTART:19700308T020000
RRULE:FREQ=YEARLY;BYMONTH=3;BYDAY=2SU
END:DAYLIGHT
BEGIN:STANDARD
TZOFFSETFROM:-0700
TZOFFSETTO:-0800
TZNAME:PST
DTSTART:19701101T020000
RRULE:FREQ=YEARLY;BYMONTH=11;BYDAY=1SU
END:STANDARD
END:VTIMEZONE
BEGIN:VEVENT
UID:1464587:Event:626138
DTSTAMP:20260420T170629Z
SUMMARY:BLACK MILK WITH LIVE BAND NAT TURNER (WIN TICKETS)
DESCRIPTION:ENTER TO WIN A PAIR OF TICKETS. WINNER WILL BE DRAWN RANDO
 MLY AND ANNOUNCED 2 DAYS PRIOR TO EVENT. 2 PAIRS AVAILABLE \n\nSATUR
 DAY, APRIL 11\nSEAN HEALY & TASTEMAKER LIVE PRESENT  BLACK MILK WITH L
 IVE BAND NAT TURNER TRA3D, TASK1ne, Tope\nRen the Vinyl Archaeologist 
 (True Skool)\n\n@ Brick & Mortar, 1710 Mission Street, San Francisco,
 \n9:00 PM (Doors open at 8:00 PM)\n18 & over\nUnder 21 must buy $5 d
 rink ticket at the door.\n{ more info/purchase tickets }\n$15.50 Adva
 nce $20.00 Day of Show\n\nFor more information visit http://trueskoo
 l.com/events/black-milk-with-live-band-nat-turner-win-tickets
DTSTART;TZID=America/Los_Angeles:20150411T200000
DTEND;TZID=America/Los_Angeles:20150411T230000
CATEGORIES:"bay area", "san francisco"
LOCATION:Brick & Mortar Music Hall
WEBSITE:http://brickandmortarmusic.com/show.cfm?id=193862&cart
URL:http://brickandmortarmusic.com/show.cfm?id=193862&cart
CONTACT:
ORGANIZER:SEAN HEALY & TASTEMAKER LIVE
ATTACH;FMTTYPE="image/jpeg":http://storage.ning.com/topology/rest/1.0/
 file/get/2247975793?profile=original
ATTENDEE;ROLE=REQ-PARTICIPANT;PARTSTAT=ACCEPTED;RSVP=TRUE;CN="Editor's
  Pick":http://trueskool.com/profile/RentheVinylArchaeologist
END:VEVENT
END:VCALENDAR
