BEGIN:VCALENDAR
PRODID:NingEventWidget-v1
VERSION:2.0
METHOD:PUBLISH
BEGIN:VTIMEZONE
TZID:America/Los_Angeles
X-LIC-LOCATION:America/Los_Angeles
BEGIN:DAYLIGHT
TZOFFSETFROM:-0800
TZOFFSETTO:-0700
TZNAME:PDT
DTSTART:19700308T020000
RRULE:FREQ=YEARLY;BYMONTH=3;BYDAY=2SU
END:DAYLIGHT
BEGIN:STANDARD
TZOFFSETFROM:-0700
TZOFFSETTO:-0800
TZNAME:PST
DTSTART:19701101T020000
RRULE:FREQ=YEARLY;BYMONTH=11;BYDAY=1SU
END:STANDARD
END:VTIMEZONE
BEGIN:VEVENT
UID:1464587:Event:371052
DTSTAMP:20260421T134545Z
SUMMARY:Black Milk with his Live Band Nat Turner at the New Parish - J
 une 29th!
DESCRIPTION:Quality Control Marketing Presents  BLACK MILK W/ NAT TURN
 ER (LIVE BAND)  Along with: SolGanix (Live Band) Jern Eye DJ Max Kane 
  Live at the New Parish  Sunday June 29th  Doors: 7:00 pm / Show: 8:00
  pm $12 adv - $15 dos  18 and Over!   Under 21 must buy a $5 drink tic
 ket at the door.   Get your Tickets Here!  http://www.ticketfly.com/pu
 rchase/event/572667\n\nFor more information visit http://trueskool.com
 /events/black-milk-with-his-live-band-nat-turner-at-the-new-parish-jun
 e
DTSTART;TZID=America/Los_Angeles:20140629T210000
DTEND;TZID=America/Los_Angeles:20140630T010000
CATEGORIES:oakland
LOCATION:New Parish, Oakland, CA
WEBSITE:http://www.ticketfly.com/purchase/event/572667
URL:http://www.ticketfly.com/purchase/event/572667
CONTACT:
ORGANIZER;CN="Karim aka Nightclubber Lang":http://trueskool.com/profil
 e/KarimakaNightclubberLang
ATTACH;FMTTYPE="image/jpeg":
ATTENDEE;ROLE=REQ-PARTICIPANT;PARTSTAT=ACCEPTED;RSVP=TRUE;CN="James Mi
 chael Federighi":http://trueskool.com/profile/JamesMichaelFederighi
ATTENDEE;ROLE=REQ-PARTICIPANT;PARTSTAT=ACCEPTED;RSVP=TRUE;CN="Karim ak
 a Nightclubber Lang":http://trueskool.com/profile/KarimakaNightclubber
 Lang
END:VEVENT
END:VCALENDAR
