BEGIN:VCALENDAR
PRODID:NingEventWidget-v1
VERSION:2.0
METHOD:PUBLISH
BEGIN:VTIMEZONE
TZID:America/Los_Angeles
X-LIC-LOCATION:America/Los_Angeles
BEGIN:DAYLIGHT
TZOFFSETFROM:-0800
TZOFFSETTO:-0700
TZNAME:PDT
DTSTART:19700308T020000
RRULE:FREQ=YEARLY;BYMONTH=3;BYDAY=2SU
END:DAYLIGHT
BEGIN:STANDARD
TZOFFSETFROM:-0700
TZOFFSETTO:-0800
TZNAME:PST
DTSTART:19701101T020000
RRULE:FREQ=YEARLY;BYMONTH=11;BYDAY=1SU
END:STANDARD
END:VTIMEZONE
BEGIN:VEVENT
UID:1464587:Event:647095
DTSTAMP:20260420T145351Z
SUMMARY:BILAL
DESCRIPTION:BILAL\n\nWhen: Saturday, Apr 16, 2016 7:30 PMTicket Price:
  $25.00 - $50.00Door Time: 6:30 PMRestrictions: 18 & overUnder 21 must
  buy $5 non-alcoholic drink ticket at the door.\n\nFor more informatio
 n visit http://trueskool.com/events/bilal-4
DTSTART;TZID=America/Los_Angeles:20160416T193000
DTEND;TZID=America/Los_Angeles:20160416T230000
CATEGORIES:"san francisco", oakland, berkley, "san jose", "bay area"
LOCATION:New Parish
WEBSITE:http://thenewparish.com/event.cfm?id=234150&cart
URL:http://thenewparish.com/event.cfm?id=234150&cart
CONTACT:
ORGANIZER;CN="Editor's Pick":http://trueskool.com/profile/RentheVinylA
 rchaeologist
ATTACH;FMTTYPE="image/jpeg":http://storage.ning.com/topology/rest/1.0/
 file/get/2059282118?profile=original
ATTENDEE;ROLE=REQ-PARTICIPANT;PARTSTAT=ACCEPTED;RSVP=TRUE;CN="Editor's
  Pick":http://trueskool.com/profile/RentheVinylArchaeologist
END:VEVENT
END:VCALENDAR
