BEGIN:VCALENDAR
PRODID:NingEventWidget-v1
VERSION:2.0
METHOD:PUBLISH
BEGIN:VTIMEZONE
TZID:America/Los_Angeles
X-LIC-LOCATION:America/Los_Angeles
BEGIN:DAYLIGHT
TZOFFSETFROM:-0800
TZOFFSETTO:-0700
TZNAME:PDT
DTSTART:19700308T020000
RRULE:FREQ=YEARLY;BYMONTH=3;BYDAY=2SU
END:DAYLIGHT
BEGIN:STANDARD
TZOFFSETFROM:-0700
TZOFFSETTO:-0800
TZNAME:PST
DTSTART:19701101T020000
RRULE:FREQ=YEARLY;BYMONTH=11;BYDAY=1SU
END:STANDARD
END:VTIMEZONE
BEGIN:VEVENT
UID:1464587:Event:396986
DTSTAMP:20260420T152344Z
SUMMARY:Bikes not BOMBS: Salon Macias Features Painter Carina Lomeli
DESCRIPTION:Bikes Not Bombs  Salon Macias is excited to feature our ne
 xt artist Carina Lomeli  and her inspired work that we are celebrating
  with an evening of food and fun.  Come join us Saturday August 23rd f
 rom 7 PM to 10 PM  Salon Macias  1757 Union Street San Francisco, CA 9
 4123  (415) 447-7748  frontdesk [at] salonmacias.com   Water color Ser
 ies 2011- 2014  In these hard and confusing times, where as an adult I
  must understand that everything that I do affects the universe, I see
  people taking sides and deciding who they fit with best. In this wate
 r color series I take my personal stories to capture the collaboration
  in the city of San Francisco where political, social, educational and
  artistic systems are always changing.  What does it mean when people 
 post sings like \"HIPSTER REPENT\" in the mission? I see it as a revol
 ution in admitting the mistakes of the past, stolen dreams, stolen gol
 d, stolen Identity and stolen land.  Although this series is still inc
 omplete the following pieces will show the cruelty of animals for pure
  human entertainment and images of protesters. San Francisco is known 
 for all its tourist attractions, I call them tourist traps, because wh
 en you step outside those comfort zones is when you begin to see the r
 eal Bay Area (and its hard to get around the tourists). The bicycle im
 ages where taken during a Bike Party's or Critical Mass. I truly belie
 ve Love and bikes can change our perspectives minds and eventually the
  world. Bikes not BOMBS!\n\nFor more information visit http://trueskoo
 l.com/events/bikes-not-bombs-salon-macias-features-painter-carina-lome
 li
DTSTART;TZID=America/Los_Angeles:20140823T190000
DTEND;TZID=America/Los_Angeles:20140823T220000
CATEGORIES:san, francisco, bay, area, xicana
LOCATION:San Francisco
WEBSITE:http://carinalomeli.com/home.html
URL:http://carinalomeli.com/home.html
CONTACT:
ORGANIZER;CN="Carina Lomeli":http://trueskool.com/profile/CarinaLomeli
 459
ATTACH;FMTTYPE="image/jpeg":http://storage.ning.com/topology/rest/1.0/
 file/get/2247964168?profile=original
ATTENDEE;ROLE=REQ-PARTICIPANT;PARTSTAT=ACCEPTED;RSVP=TRUE;CN="Carina L
 omeli":http://trueskool.com/profile/CarinaLomeli459
END:VEVENT
END:VCALENDAR
