BEGIN:VCALENDAR
PRODID:NingEventWidget-v1
VERSION:2.0
METHOD:PUBLISH
BEGIN:VTIMEZONE
TZID:America/Los_Angeles
X-LIC-LOCATION:America/Los_Angeles
BEGIN:DAYLIGHT
TZOFFSETFROM:-0800
TZOFFSETTO:-0700
TZNAME:PDT
DTSTART:19700308T020000
RRULE:FREQ=YEARLY;BYMONTH=3;BYDAY=2SU
END:DAYLIGHT
BEGIN:STANDARD
TZOFFSETFROM:-0700
TZOFFSETTO:-0800
TZNAME:PST
DTSTART:19701101T020000
RRULE:FREQ=YEARLY;BYMONTH=11;BYDAY=1SU
END:STANDARD
END:VTIMEZONE
BEGIN:VEVENT
UID:1464587:Event:551423
DTSTAMP:20260420T232111Z
SUMMARY:Big K.R.I.T. (Miami)
DESCRIPTION:\nDate\nLocation\nEvent Details\nFind Tickets\n\n\nMAR  
 \n13\nFRI\n\nLMNTMiami, FL07:00 PM\n\nBig K.R.I.T.\nSee Tickets\n\n\n
 \n\nFor more information visit http://trueskool.com/events/big-k-r-i-t
 -miami
DTSTART;TZID=America/Los_Angeles:20150313T190000
DTEND;TZID=America/Los_Angeles:20150313T230000
CATEGORIES:miami, florida, fla, mia
LOCATION:LMNT, Miami
WEBSITE:http://www.ticketmaster.com/big-krit-miami-florida-03-13-2015/
 event/0D004E3CFCCBA89A?artistid=1483813&majorcatid=10001&minorcatid=3&
 tm_link=artist_msg-0_0D004E3CFCCBA89A
URL:http://www.ticketmaster.com/big-krit-miami-florida-03-13-2015/even
 t/0D004E3CFCCBA89A?artistid=1483813&majorcatid=10001&minorcatid=3&tm_l
 ink=artist_msg-0_0D004E3CFCCBA89A
CONTACT:
ORGANIZER;CN="Editor's Pick":http://trueskool.com/profile/RentheVinylA
 rchaeologist
ATTACH;FMTTYPE="image/jpeg":http://storage.ning.com/topology/rest/1.0/
 file/get/2247976574?profile=original
ATTENDEE;ROLE=REQ-PARTICIPANT;PARTSTAT=ACCEPTED;RSVP=TRUE;CN="Editor's
  Pick":http://trueskool.com/profile/RentheVinylArchaeologist
END:VEVENT
END:VCALENDAR
