BEGIN:VCALENDAR
PRODID:NingEventWidget-v1
VERSION:2.0
METHOD:PUBLISH
BEGIN:VTIMEZONE
TZID:America/Los_Angeles
X-LIC-LOCATION:America/Los_Angeles
BEGIN:DAYLIGHT
TZOFFSETFROM:-0800
TZOFFSETTO:-0700
TZNAME:PDT
DTSTART:19700308T020000
RRULE:FREQ=YEARLY;BYMONTH=3;BYDAY=2SU
END:DAYLIGHT
BEGIN:STANDARD
TZOFFSETFROM:-0700
TZOFFSETTO:-0800
TZNAME:PST
DTSTART:19701101T020000
RRULE:FREQ=YEARLY;BYMONTH=11;BYDAY=1SU
END:STANDARD
END:VTIMEZONE
BEGIN:VEVENT
UID:1464587:Event:651291
DTSTAMP:20260420T085437Z
SUMMARY:BEYONCE VS. RIHANNA (Tribute // Dance Party)
DESCRIPTION:\n\n\n\n\n\n\nBeyonce vs. Rihanna (Tribute // Dance Party)
 \nNo Remixes, No Mashups, All Originals\nA Controvsy and Lights & Musi
 c Collective Event\n\n\n\nFor more information visit http://trueskool.
 com/events/beyonce-vs-rihanna-tribute-dance-party
DTSTART;TZID=America/Los_Angeles:20160709T210000
DTEND;TZID=America/Los_Angeles:20160710T020000
CATEGORIES:"san francisco", "bay area"
LOCATION:Mezzanine, San Francisco
WEBSITE:http://mezzaninesf.com/events/beyonce-vs-rihanna/
URL:http://mezzaninesf.com/events/beyonce-vs-rihanna/
CONTACT:415.625.8880
ORGANIZER:MEZZANINE, Controvsy, & Lights & Music Present
ATTACH;FMTTYPE="image/jpeg":http://storage.ning.com/topology/rest/1.0/
 file/get/2247989288?profile=original
ATTENDEE;ROLE=REQ-PARTICIPANT;PARTSTAT=ACCEPTED;RSVP=TRUE;CN=Mezzanine
 SF:http://trueskool.com/profile/MezzanineSF
END:VEVENT
END:VCALENDAR
