BEGIN:VCALENDAR
PRODID:NingEventWidget-v1
VERSION:2.0
METHOD:PUBLISH
BEGIN:VTIMEZONE
TZID:America/Los_Angeles
X-LIC-LOCATION:America/Los_Angeles
BEGIN:DAYLIGHT
TZOFFSETFROM:-0800
TZOFFSETTO:-0700
TZNAME:PDT
DTSTART:19700308T020000
RRULE:FREQ=YEARLY;BYMONTH=3;BYDAY=2SU
END:DAYLIGHT
BEGIN:STANDARD
TZOFFSETFROM:-0700
TZOFFSETTO:-0800
TZNAME:PST
DTSTART:19701101T020000
RRULE:FREQ=YEARLY;BYMONTH=11;BYDAY=1SU
END:STANDARD
END:VTIMEZONE
BEGIN:VEVENT
UID:1464587:Event:70739
DTSTAMP:20260421T032953Z
SUMMARY:Better
DESCRIPTION:\n\nBetter w/ DJ's Solar, Jason Kendig, Sleazemore, Deevic
 e\n\nFriday Dec 3rd\n\n@ 45 Maiden*\n(45 Maiden Lane. b/w Grant & Kear
 ny) *4 doors down from Otis\n\nhttp://maps.google.com/?q=45+Maiden+Lan
 e%2C+San+Francisco%2C+CA+94108\n\nSponsored by:\n\nhttp://thebigupmaga
 zine.com/\nhttp://www.d-structuresf.com/\nhttp://thefarmersblock.tumbl
 r.com/\nhttp://www.harputsown.com/\nhttp://www.keyslistsf.com/\nhttp:/
 /www.plantmusic.com/\nhttp://www.ploom.com/\nhttp://sexanddesign.com/\
 n\n$5 before 11pm/$10 after 11pm\n\nDoors & Music @ 10:00pm\n\nSOLAR\n
 Solar joined up with the PacificSound within the first year and it was
  at these legendary parties that he developed his unique style, drawin
 g on influences from the traditional deep and funky sounds of San Fran
 cisco mixed with the futuristic techno-soul of Detroit and the jacking
  tracks of Chicago. Along with the rest of the Sunset crew, Solar cont
 inues to shape and define electronic music in San Francisco with the s
 ummer boat parties and the annual Sunset campout. He is also one of th
 e original founders of Bionic, which has the distinction of being the 
 longest running house music weekly in San Francisco.\n\nJASON KENDIG\n
 Jason Kendig brings an eclectic and informed mix of house, techno and 
 disco to the table, spanning the past, present and future sounds of De
 troit, Chicago and San Francisco. He is a resident at SF's infamous Ho
 ney Soundsystem parties which have become synonymous with quality, gar
 nering the respect of music lovers and DJ's here in the Bay Area and b
 eyond.\n\nSLEAZEMORE\nSleazemore’s personality in American electro c
 ulture is big and huge like the ocean is deep. The ever-ready party ma
 chine has been known called the antithesis of many bad decisions. His 
 party in San Francisco, Light’s Down Low (nominated for best club in
  SF ‘08 music awards), is an essential spot, acting as a minor leagu
 e for artists who shortly after become major players. He has recently 
 become intenational with the\nopening of Lights Down Low France and ha
 s played everywhere from NYC to Berlin to Mexico City to Paris.\n\nDEE
 VICE\nDJ Deevice can be heard each week on Gridlock which was voted \"
 Best Radio Show\" in the SF Bay Guardian's \"Best of the Bay 2010\" aw
 ards. Since the spring of 2009 Gridlock has showcased the newest and b
 est music from around the globe and has featured live interviews with 
 electronic legends such as The Orb's Thomas Fehlmann and Warp Records 
 Nightmares On Wax.\n\nFor more information visit http://trueskool.com/
 events/better-1
DTSTART;TZID=America/Los_Angeles:20101203T220000
DTEND;TZID=America/Los_Angeles:20101204T030000
CATEGORIES:san, francisco
LOCATION:45 MAIDEN
WEBSITE:http://maps.google.com/?q=45+Maiden+Lane%2C+San+Francisco%2C+C
 A+94108
URL:http://maps.google.com/?q=45+Maiden+Lane%2C+San+Francisco%2C+CA+94
 108
CONTACT:
ORGANIZER:DJ Deevice
ATTACH;FMTTYPE="image/jpeg":http://storage.ning.com/topology/rest/1.0/
 file/get/2247886499?profile=original
ATTENDEE;ROLE=REQ-PARTICIPANT;PARTSTAT=ACCEPTED;RSVP=TRUE;CN="Martin C
 ollins":http://trueskool.com/profile/MartinCollins
END:VEVENT
END:VCALENDAR
