BEGIN:VCALENDAR
PRODID:NingEventWidget-v1
VERSION:2.0
METHOD:PUBLISH
BEGIN:VTIMEZONE
TZID:America/Los_Angeles
X-LIC-LOCATION:America/Los_Angeles
BEGIN:DAYLIGHT
TZOFFSETFROM:-0800
TZOFFSETTO:-0700
TZNAME:PDT
DTSTART:19700308T020000
RRULE:FREQ=YEARLY;BYMONTH=3;BYDAY=2SU
END:DAYLIGHT
BEGIN:STANDARD
TZOFFSETFROM:-0700
TZOFFSETTO:-0800
TZNAME:PST
DTSTART:19701101T020000
RRULE:FREQ=YEARLY;BYMONTH=11;BYDAY=1SU
END:STANDARD
END:VTIMEZONE
BEGIN:VEVENT
UID:1464587:Event:59985
DTSTAMP:20260420T170015Z
SUMMARY:Beres Hammond and the Harmony House Musicians / Inner Circle /
  Culture featuring Kenyatta Hill
DESCRIPTION:Beres Hammond and the Harmony House Musicians / Inner Circ
 le / Culture\nfeaturing Kenyatta Hill\n\nFriday, Aug 27, 2010 9:00 PM 
 PDT (8:30 PM Doors)\nThe Independent, San Francisco, CA\n21 years and 
 over\n\nFor more information visit http://trueskool.com/events/beres-h
 ammond-and-the-harmony
DTSTART;TZID=America/Los_Angeles:20100827T203000
DTEND;TZID=America/Los_Angeles:20100827T230000
CATEGORIES:world, music
LOCATION:The Independent, San Francisco, CA
WEBSITE:http://www.ticketweb.com/snl/VenueListings.action?venueId=1630
 2&pl=
URL:http://www.ticketweb.com/snl/VenueListings.action?venueId=16302&pl
 =
CONTACT:
ORGANIZER;CN="Editor's Pick":http://trueskool.com/profile/RentheVinylA
 rchaeologist
ATTACH;FMTTYPE="image/jpeg":http://storage.ning.com/topology/rest/1.0/
 file/get/2247881188?profile=original
ATTENDEE;ROLE=REQ-PARTICIPANT;PARTSTAT=ACCEPTED;RSVP=TRUE;CN="Editor's
  Pick":http://trueskool.com/profile/RentheVinylArchaeologist
END:VEVENT
END:VCALENDAR
