BEGIN:VCALENDAR
PRODID:NingEventWidget-v1
VERSION:2.0
METHOD:PUBLISH
BEGIN:VTIMEZONE
TZID:America/Los_Angeles
X-LIC-LOCATION:America/Los_Angeles
BEGIN:DAYLIGHT
TZOFFSETFROM:-0800
TZOFFSETTO:-0700
TZNAME:PDT
DTSTART:19700308T020000
RRULE:FREQ=YEARLY;BYMONTH=3;BYDAY=2SU
END:DAYLIGHT
BEGIN:STANDARD
TZOFFSETFROM:-0700
TZOFFSETTO:-0800
TZNAME:PST
DTSTART:19701101T020000
RRULE:FREQ=YEARLY;BYMONTH=11;BYDAY=1SU
END:STANDARD
END:VTIMEZONE
BEGIN:VEVENT
UID:1464587:Event:608766
DTSTAMP:20260420T205743Z
SUMMARY:Benefit Dance Party for SAPHICHAY
DESCRIPTION:Come out Friday, MARCH 13th and learn how to dance, watch 
 the Valverde Dance group and Anqari music collective perform and then 
 get down to DJs: Stepwise, Kool Kyle and Marcos Juarez. \nDoors open 
 at 7\nDance Lessons start at: 7:30 \nDance Performance at: 8:30\nDJ's
  10 - Late \n$10 in advanced\n$15 at the Door\nALL AGES WELCOMED! \n
 \nFor more information visit http://trueskool.com/events/benefit-dance
 -party-for-saphichay
DTSTART;TZID=America/Los_Angeles:20150313T190000
DTEND;TZID=America/Los_Angeles:20150314T000000
CATEGORIES:"la peña cultural center", berkeley, "bay area", "la peña
 "
LOCATION:La Peña cultural center, Berkeley, CA
WEBSITE:https://www.google.com/maps/place/3105+Shattuck+Ave,+Berkeley,
 +CA+94705/@37.852817,-122.265882,17z/data=!3m1!4b1!4m2!3m1!1s0x80857e7
 f53d0eb5d:0xdef6f7fd880053a1
URL:https://www.google.com/maps/place/3105+Shattuck+Ave,+Berkeley,+CA+
 94705/@37.852817,-122.265882,17z/data=!3m1!4b1!4m2!3m1!1s0x80857e7f53d
 0eb5d:0xdef6f7fd880053a1
CONTACT:9142753177
ORGANIZER;CN=Saphichay:http://trueskool.com/profile/Saphichay
ATTACH;FMTTYPE="image/jpeg":http://storage.ning.com/topology/rest/1.0/
 file/get/2247973874?profile=original
ATTENDEE;ROLE=REQ-PARTICIPANT;PARTSTAT=ACCEPTED;RSVP=TRUE;CN=Saphichay
 :http://trueskool.com/profile/Saphichay
END:VEVENT
END:VCALENDAR
