BEGIN:VCALENDAR
PRODID:NingEventWidget-v1
VERSION:2.0
METHOD:PUBLISH
BEGIN:VTIMEZONE
TZID:America/Los_Angeles
X-LIC-LOCATION:America/Los_Angeles
BEGIN:DAYLIGHT
TZOFFSETFROM:-0800
TZOFFSETTO:-0700
TZNAME:PDT
DTSTART:19700308T020000
RRULE:FREQ=YEARLY;BYMONTH=3;BYDAY=2SU
END:DAYLIGHT
BEGIN:STANDARD
TZOFFSETFROM:-0700
TZOFFSETTO:-0800
TZNAME:PST
DTSTART:19701101T020000
RRULE:FREQ=YEARLY;BYMONTH=11;BYDAY=1SU
END:STANDARD
END:VTIMEZONE
BEGIN:VEVENT
UID:1464587:Event:653538
DTSTAMP:20260420T152630Z
SUMMARY:Beat Crawl w/ Mind Motion, Young Fyah, Hector, DcChillin, Veyn
 , Umami, Dedan, Jerry Ross, Leydis,...
DESCRIPTION:\nSATURDAY, SEPT 10 BeatCrawl 24 DJs come together at 6 ba
 rs for an epic monthly day party. One pass gets you admission to every
 thing.\nFeaturing: Mind Motion, Young Fyah, Hector, DcChillin, Veyn, U
 mami, Dedan, Jerry Ross, Leydis, Renoir, Trackademicks, Aebledee, Will
 iemaze, Malachi, Santero, Mpenzi, plus more!\n@ Starline Social Club, 
 Era, Rock Steady, Somar, Au, and The Uptown 4PM-8PM | 21+ >> BUY TICKE
 TS\n\nFor more information visit http://trueskool.com/events/beat-craw
 l-w-mind-motion-young-fyah-hector-dcchillin-veyn-umami-d
DTSTART;TZID=America/Los_Angeles:20160910T160000
DTEND;TZID=America/Los_Angeles:20160910T200000
CATEGORIES:"bay area", oakland
LOCATION:Various Venues, Oakland
WEBSITE:https://www.eventbrite.com/e/beat-crawl-oakland-tickets-271818
 55662
URL:https://www.eventbrite.com/e/beat-crawl-oakland-tickets-2718185566
 2
CONTACT:
ORGANIZER:SOLit
ATTACH;FMTTYPE="image/jpeg":http://storage.ning.com/topology/rest/1.0/
 file/get/2247990925?profile=original
ATTENDEE;ROLE=REQ-PARTICIPANT;PARTSTAT=ACCEPTED;RSVP=TRUE;CN="Editor's
  Pick":http://trueskool.com/profile/RentheVinylArchaeologist
END:VEVENT
END:VCALENDAR
