BEGIN:VCALENDAR
PRODID:NingEventWidget-v1
VERSION:2.0
METHOD:PUBLISH
BEGIN:VTIMEZONE
TZID:America/Los_Angeles
X-LIC-LOCATION:America/Los_Angeles
BEGIN:DAYLIGHT
TZOFFSETFROM:-0800
TZOFFSETTO:-0700
TZNAME:PDT
DTSTART:19700308T020000
RRULE:FREQ=YEARLY;BYMONTH=3;BYDAY=2SU
END:DAYLIGHT
BEGIN:STANDARD
TZOFFSETFROM:-0700
TZOFFSETTO:-0800
TZNAME:PST
DTSTART:19701101T020000
RRULE:FREQ=YEARLY;BYMONTH=11;BYDAY=1SU
END:STANDARD
END:VTIMEZONE
BEGIN:VEVENT
UID:1464587:Event:625620
DTSTAMP:20260421T102250Z
SUMMARY:Bay Area Reggae Festival feat. Barrington Levy, Junior Reid, G
 yptian, Freddie McGregor, Lady Saw, Marcia Griffiths...
DESCRIPTION:ENTER TO WIN A PAIR OF TICKETS. WINNER WILL BE DRAWN RANDO
 MLY AND ANNOUNCED 2 DAYS PRIOR TO EVENT. \n FRIDAY-SUNDAY, JULY 17-19
 , 2015 First Annual Bay Area Reggaefest\n\nFeaturing: Barrington Levy,
  Beanie Man, Gyptian, Freddie McGregor, Lady Saw, Marcia Griffiths, Ro
 main Virgo and many more to be announced...\n\n@ The Craneway Pavilion
 , Richmond, CA All Ages. Starts 3pm Friday July 17.  >> BUY TICKETS Mo
 re info: http://bayareareggaefest.net/\nIt’s a long time coming, but
  the Bay Area will finally be the setting to its own reggae festival w
 ith the 1st Annual Bay Area Reggae Fest at Craneway Pavillion in Richm
 ond, California. Embrace the sweet sounds of reggae with this 3-day fe
 stival which hosts the biggest names in reggae as well as local artist
 s with over 30 live bands on 4 stages representing many parts of the w
 orld including Jamaica, Haiti, Africa and the U.S. Confirmed artists i
 nclude dancehall king Beanie Man, princess of reggae Marcia Griffiths,
  reggae legends Barrington Levy & Freddie McGregor, queen of dancehall
  Lady Saw, recently added Gyptian & Romain Virgo plus many of your fav
 orite local artists including Bay Area icon Mystic Man, Junior Toots, 
 Bless King Sounds, I Trinity, Joseph Israel, and many more. The pictur
 esque Craneway Pavilion is perfect setting for our gathering, offering
  an awe-inspiring panorama of the Bay and the San Francisco skyline wh
 ere the Bay Area reggae community will unite under “the one love” 
 banner to spread a cosmic blend of irie vibes, true happiness, family,
  peace, love and joy in celebration of the universal spirit of music. 
 Come enjoy great music, arts, crafts and food at the 1st Annual Bay Ar
 ea Reggae Fest. Plus if you can move, groove or get your twerk on sign
  up for your chance to win the 1st annual Bay Area Reggaefest Dance Of
 f. The top 20 dancers will battle it out for $5000 cash prize in front
  of the massive audience during the festival. So get up, stand up, and
  join us on July 17th, 18th and 19th 2015 at the Craneway Pavilion, 14
 14 Harbour Way South, Richmond, CA. The festival starts at 3pm on Frid
 ay July 17th. For tickets and info: www.bayareareggaefest.net\n\nFor m
 ore information visit http://trueskool.com/events/bay-area-reggae-fest
 ival-feat-beanie-man-gyptian-freddie-mcgregor
DTSTART;TZID=America/Los_Angeles:20150717T150000
DTEND;TZID=America/Los_Angeles:20150719T234500
CATEGORIES:"bay area", richmond
LOCATION:Craneway Pavilion, Richmond, CA
WEBSITE:http://www.eventbrite.com/e/first-annual-bay-area-reggaefest-t
 ickets-16238898984
URL:http://www.eventbrite.com/e/first-annual-bay-area-reggaefest-ticke
 ts-16238898984
CONTACT:
ORGANIZER;CN="Editor's Pick":http://trueskool.com/profile/RentheVinylA
 rchaeologist
ATTACH;FMTTYPE="image/jpeg":http://storage.ning.com/topology/rest/1.0/
 file/get/2247975400?profile=original
ATTENDEE;ROLE=REQ-PARTICIPANT;PARTSTAT=ACCEPTED;RSVP=TRUE;CN="Editor's
  Pick":http://trueskool.com/profile/RentheVinylArchaeologist
ATTENDEE;ROLE=REQ-PARTICIPANT;PARTSTAT=ACCEPTED;RSVP=TRUE;CN="Donte Ha
 rrison":http://trueskool.com/profile/DonteHarrison
ATTENDEE;ROLE=REQ-PARTICIPANT;PARTSTAT=ACCEPTED;RSVP=TRUE;CN="Michelle
  Cautiverio":http://trueskool.com/profile/MichelleCautiverio
ATTENDEE;ROLE=REQ-PARTICIPANT;PARTSTAT=ACCEPTED;RSVP=TRUE;CN=Rebecca:h
 ttp://trueskool.com/profile/Rebecca
END:VEVENT
END:VCALENDAR
