BEGIN:VCALENDAR
PRODID:NingEventWidget-v1
VERSION:2.0
METHOD:PUBLISH
BEGIN:VTIMEZONE
TZID:America/Los_Angeles
X-LIC-LOCATION:America/Los_Angeles
BEGIN:DAYLIGHT
TZOFFSETFROM:-0800
TZOFFSETTO:-0700
TZNAME:PDT
DTSTART:19700308T020000
RRULE:FREQ=YEARLY;BYMONTH=3;BYDAY=2SU
END:DAYLIGHT
BEGIN:STANDARD
TZOFFSETFROM:-0700
TZOFFSETTO:-0800
TZNAME:PST
DTSTART:19701101T020000
RRULE:FREQ=YEARLY;BYMONTH=11;BYDAY=1SU
END:STANDARD
END:VTIMEZONE
BEGIN:VEVENT
UID:1464587:Event:78986
DTSTAMP:20260420T134612Z
SUMMARY:BADNB @ CLUB SIX
DESCRIPTION:BADNB SATURDAY SESSIONS MARCH 12th :: SENATOR b2b DJM :: T
 HE DOCTOR :: SHADOW SPIRIT :: MC DUH :: 10pm-2am  FREE B4 10:30PM.  
 2 4 1 Drinks 10-11pm \n\nOfficial Site: http://www.clubsix1.com\n\nFor
  more information visit http://trueskool.com/events/badnb-club-six
DTSTART;TZID=America/Los_Angeles:20110312T220000
DTEND;TZID=America/Los_Angeles:20110313T020000
CATEGORIES:san, francisco, "ca."
LOCATION:Club Six San Francisco, Ca
WEBSITE:http://www.clubsix1.com
URL:http://www.clubsix1.com
CONTACT:415-863-1221
ORGANIZER;CN=Cecily:http://trueskool.com/profile/Cecily
ATTACH;FMTTYPE="image/jpeg":http://storage.ning.com/topology/rest/1.0/
 file/get/2247890586?profile=original
ATTENDEE;ROLE=REQ-PARTICIPANT;PARTSTAT=ACCEPTED;RSVP=TRUE;CN=Cecily:ht
 tp://trueskool.com/profile/Cecily
END:VEVENT
END:VCALENDAR
