BEGIN:VCALENDAR
PRODID:NingEventWidget-v1
VERSION:2.0
METHOD:PUBLISH
BEGIN:VTIMEZONE
TZID:America/Los_Angeles
X-LIC-LOCATION:America/Los_Angeles
BEGIN:DAYLIGHT
TZOFFSETFROM:-0800
TZOFFSETTO:-0700
TZNAME:PDT
DTSTART:19700308T020000
RRULE:FREQ=YEARLY;BYMONTH=3;BYDAY=2SU
END:DAYLIGHT
BEGIN:STANDARD
TZOFFSETFROM:-0700
TZOFFSETTO:-0800
TZNAME:PST
DTSTART:19701101T020000
RRULE:FREQ=YEARLY;BYMONTH=11;BYDAY=1SU
END:STANDARD
END:VTIMEZONE
BEGIN:VEVENT
UID:1464587:Event:633785
DTSTAMP:20260421T220403Z
SUMMARY:BADBADNOTGOOD & Ghostface Killah
DESCRIPTION:BADBADNOTGOOD & Ghostface Killah\nShow Me The BodyThursday
 , August 20 20159:00 PMMezzanineSan Francisco, CA\n\nFor more informat
 ion visit http://trueskool.com/events/badbadnotgood-ghostface-killah
DTSTART;TZID=America/Los_Angeles:20150820T210000
DTEND;TZID=America/Los_Angeles:20150820T230000
CATEGORIES:"san francisco", oakland, berkley, "san jose", "bay area"
LOCATION:Mezzanine, San Fransisco
WEBSITE:http://www.ticketmaster.com/event/1C004EDEED705B18?brand=anoth
 erplanet&camefrom=CFC_ANOTHERPLANET
URL:http://www.ticketmaster.com/event/1C004EDEED705B18?brand=anotherpl
 anet&camefrom=CFC_ANOTHERPLANET
CONTACT:
ORGANIZER;CN="Editor's Pick":http://trueskool.com/profile/RentheVinylA
 rchaeologist
ATTACH;FMTTYPE="image/jpeg":http://storage.ning.com/topology/rest/1.0/
 file/get/2247977398?profile=original
ATTENDEE;ROLE=REQ-PARTICIPANT;PARTSTAT=ACCEPTED;RSVP=TRUE;CN="Editor's
  Pick":http://trueskool.com/profile/RentheVinylArchaeologist
END:VEVENT
END:VCALENDAR
