BEGIN:VCALENDAR
PRODID:NingEventWidget-v1
VERSION:2.0
METHOD:PUBLISH
BEGIN:VTIMEZONE
TZID:America/Los_Angeles
X-LIC-LOCATION:America/Los_Angeles
BEGIN:DAYLIGHT
TZOFFSETFROM:-0800
TZOFFSETTO:-0700
TZNAME:PDT
DTSTART:19700308T020000
RRULE:FREQ=YEARLY;BYMONTH=3;BYDAY=2SU
END:DAYLIGHT
BEGIN:STANDARD
TZOFFSETFROM:-0700
TZOFFSETTO:-0800
TZNAME:PST
DTSTART:19701101T020000
RRULE:FREQ=YEARLY;BYMONTH=11;BYDAY=1SU
END:STANDARD
END:VTIMEZONE
BEGIN:VEVENT
UID:1464587:Event:652073
DTSTAMP:20260420T152534Z
SUMMARY:B.A.R.T. [Bay Area Rockin' Together]
DESCRIPTION:Tickets here: www.bart2016.eventbrite.com||| B.A.R.T. [Ba
 y Area Rockin' Together] | July 29th, 2016 |||Brought to you by Platur
 n Productions, DJ Cutso, Rap Bay, & Uptown NightclubA night of strictl
 y Bay Area music, from hip-hop to rock to funk/soul and all things in 
 between.Featuring DJs...Goldenchyld [The Bangerz]Cutso [The Bangerz | 
 Wild 94.9]Platurn [45 Sessions | Oakland Faders]Teeko [Starship Connec
 tion | 4onefunk]Apollo [Triple Threat | Rocksteady Crew]Umami [Peaches
  | Golden State Warriors]+ more surprises TBAwww.uptownnightclub.com19
 28 Telegraph Ave. - Oakland, CADoors @ 9 PM | 21+ | Drink Specials\n\n
 For more information visit http://trueskool.com/events/b-a-r-t-bay-are
 a-rockin-together
DTSTART;TZID=America/Los_Angeles:20160729T210000
DTEND;TZID=America/Los_Angeles:20160730T020000
CATEGORIES:uptown, nightclub, oakland
LOCATION:uptown nightclub, oakland
WEBSITE:http://www.bart2016.eventbrite.com
URL:http://www.bart2016.eventbrite.com
CONTACT:
ORGANIZER;CN="DJ Platurn":http://trueskool.com/profile/DJPlaturn
ATTACH;FMTTYPE="image/jpeg":http://storage.ning.com/topology/rest/1.0/
 file/get/2247990330?profile=original
ATTENDEE;ROLE=REQ-PARTICIPANT;PARTSTAT=ACCEPTED;RSVP=TRUE;CN="Editor's
  Pick":http://trueskool.com/profile/RentheVinylArchaeologist
ATTENDEE;ROLE=REQ-PARTICIPANT;PARTSTAT=ACCEPTED;RSVP=TRUE;CN="DJ Platu
 rn":http://trueskool.com/profile/DJPlaturn
END:VEVENT
END:VCALENDAR
