BEGIN:VCALENDAR
PRODID:NingEventWidget-v1
VERSION:2.0
METHOD:PUBLISH
BEGIN:VTIMEZONE
TZID:America/Los_Angeles
X-LIC-LOCATION:America/Los_Angeles
BEGIN:DAYLIGHT
TZOFFSETFROM:-0800
TZOFFSETTO:-0700
TZNAME:PDT
DTSTART:19700308T020000
RRULE:FREQ=YEARLY;BYMONTH=3;BYDAY=2SU
END:DAYLIGHT
BEGIN:STANDARD
TZOFFSETFROM:-0700
TZOFFSETTO:-0800
TZNAME:PST
DTSTART:19701101T020000
RRULE:FREQ=YEARLY;BYMONTH=11;BYDAY=1SU
END:STANDARD
END:VTIMEZONE
BEGIN:VEVENT
UID:1464587:Event:685356
DTSTAMP:20260424T115616Z
SUMMARY:AVERAGE WHITE BAND
DESCRIPTION:AVERAGE WHITE BAND\r\nMON 4.22 DOORS: 7:30 PM / SHOW: 8:00
  PM\r\nTUE 4.23 DOORS: 7:30 PM / SHOW: 8:00 PM\r\nTUE 4.23 DOORS: 9:45
  PM / SHOW: 10:00 PM\r\nYoshi's Oakland 510 Embarcadero West Jack Lond
 on Square Oakland, CA 94607 Phone: 510.238.9200\n\nFor more informatio
 n visit http://trueskool.com/events/average-white-band-2
DTSTART;TZID=America/Los_Angeles:20190422T200000
DTEND;TZID=America/Los_Angeles:20190423T233000
CATEGORIES:"bay area", oakland, "san francisco", "san jose", berkeley
LOCATION:Yoshi's , Oakland
WEBSITE:https://www.ticketfly.com/purchase/event/1774529?_ga=2.1444769
 19.334595304.1553147750-462016707.1553147750
URL:https://www.ticketfly.com/purchase/event/1774529?_ga=2.144476919.3
 34595304.1553147750-462016707.1553147750
CONTACT:
ORGANIZER;CN="Editor's Pick":http://trueskool.com/profile/RentheVinylA
 rchaeologist
ATTACH;FMTTYPE="image/jpeg":https://storage.ning.com/topology/rest/1.0
 /file/get/1523885234?profile=original
ATTENDEE;ROLE=REQ-PARTICIPANT;PARTSTAT=ACCEPTED;RSVP=TRUE;CN="Editor's
  Pick":http://trueskool.com/profile/RentheVinylArchaeologist
END:VEVENT
END:VCALENDAR
