BEGIN:VCALENDAR
PRODID:NingEventWidget-v1
VERSION:2.0
METHOD:PUBLISH
BEGIN:VTIMEZONE
TZID:America/Los_Angeles
X-LIC-LOCATION:America/Los_Angeles
BEGIN:DAYLIGHT
TZOFFSETFROM:-0800
TZOFFSETTO:-0700
TZNAME:PDT
DTSTART:19700308T020000
RRULE:FREQ=YEARLY;BYMONTH=3;BYDAY=2SU
END:DAYLIGHT
BEGIN:STANDARD
TZOFFSETFROM:-0700
TZOFFSETTO:-0800
TZNAME:PST
DTSTART:19701101T020000
RRULE:FREQ=YEARLY;BYMONTH=11;BYDAY=1SU
END:STANDARD
END:VTIMEZONE
BEGIN:VEVENT
UID:1464587:Event:651642
DTSTAMP:20260420T115657Z
SUMMARY:AVANT
DESCRIPTION:AVANT\n Friday Sep 16, 2016 Doors: 7:30 PM  Show: 8:00 PM 
 $34 - $65\n\nFriday Sep 16, 2016 Doors: 9:45 PM  Show: 10:00 PM $34\n\
 nSaturday Sep 17, 2016 Doors: 7:00 PM  Show: 7:30 PM $39 - $65\n\nSatu
 rday Sep 17, 2016 Doors: 9:15 PM  Show: 9:30 PM $39\n\nSunday Sep 18, 
 2016 Doors: 6:30 PM  Show: 7:00 PM $34 - $65\n\n\n\nSunday Sep 18, 20
 16\nDoors: 8:45 PM  Show: 9:00 PM\n$34\n\n\n\n \n\n\n\n\n\n\n\n\n\n\
 nFor more information visit http://trueskool.com/events/avant-1
DTSTART;TZID=America/Los_Angeles:20160916T200000
DTEND;TZID=America/Los_Angeles:20160918T230000
CATEGORIES:"san francisco", oakland, berkley, "san jose", "bay area"
LOCATION:Yoshi's, Oakland
WEBSITE:http://http://www.yoshis.com/search/?q=AVANT
URL:http://http://www.yoshis.com/search/?q=AVANT
CONTACT:
ORGANIZER;CN="Editor's Pick":http://trueskool.com/profile/RentheVinylA
 rchaeologist
ATTACH;FMTTYPE="image/jpeg":http://storage.ning.com/topology/rest/1.0/
 file/get/2247990418?profile=original
ATTENDEE;ROLE=REQ-PARTICIPANT;PARTSTAT=ACCEPTED;RSVP=TRUE;CN="Editor's
  Pick":http://trueskool.com/profile/RentheVinylArchaeologist
END:VEVENT
END:VCALENDAR
