BEGIN:VCALENDAR
PRODID:NingEventWidget-v1
VERSION:2.0
METHOD:PUBLISH
BEGIN:VTIMEZONE
TZID:America/Los_Angeles
X-LIC-LOCATION:America/Los_Angeles
BEGIN:DAYLIGHT
TZOFFSETFROM:-0800
TZOFFSETTO:-0700
TZNAME:PDT
DTSTART:19700308T020000
RRULE:FREQ=YEARLY;BYMONTH=3;BYDAY=2SU
END:DAYLIGHT
BEGIN:STANDARD
TZOFFSETFROM:-0700
TZOFFSETTO:-0800
TZNAME:PST
DTSTART:19701101T020000
RRULE:FREQ=YEARLY;BYMONTH=11;BYDAY=1SU
END:STANDARD
END:VTIMEZONE
BEGIN:VEVENT
UID:1464587:Event:79788
DTSTAMP:20260420T150451Z
SUMMARY:AURAL FIXATION W KOOL KEITH
DESCRIPTION:$15 Presales HERE   http://redcalmauralfixation.eventbrite
 .com/    ...  Aural Fixation: RedCalm Media launch party featuring ...
 legendary  KOOL KEITH***  & A sweaty, booty shake session hosted by Fo
 otwerks! w/ legendary...  DJ GODFATHER***   and the musical stylings o
 f...  *DIALS (CHANGE THE BEAT/SOUNDPIECES - SF) **PRINCE ZAMMY (HOTNHE
 AVY/BRAPDEM! - SF) ***RYURY (FOOTWERKS! - SF)  droppin' straight flame
  for that ass in the BASSMENT. Ghetto-Tech, Booty Bass, Juke, Glitch, 
 Dubstep, Detroit Techno.   -------------------------------------------
 -----  Erotic photography exhibit featuring the works of Brandon \"Red
 Calm\" Martin.  More performances TBA.  9pm @ CLUB SIX 60 6th St. San 
 Francisco, CA 94103 21+  For ticket info and giveaways, FOLLOW @RedCal
 mmedia on Twitter.   http://redcalmauralfixation.eventbrite.com/    an
 d here LIKE this page.  http://www.facebook.com/pa ges/FootwerksSF/151
 800421544414    -------------   http://www.discogs.com/artist/Kool+Kei
 th  http://www.discogs.com/artist/Dj+Godfather   http://www.facebook.c
 om/ev ent.php?eid=189775891062759&ref=ts\n\nOfficial Site: http://www.
 clubsix1.com\n\nFor more information visit http://trueskool.com/events
 /aural-fixation-w-kool-keith
DTSTART;TZID=America/Los_Angeles:20110401T210000
DTEND;TZID=America/Los_Angeles:20110402T040000
CATEGORIES:san, francisco, "ca."
LOCATION:Club Six San Francisco
WEBSITE:http://www.clubsix1.com
URL:http://www.clubsix1.com
CONTACT:415-863-1221
ORGANIZER;CN=Cecily:http://trueskool.com/profile/Cecily
ATTACH;FMTTYPE="image/jpeg":http://storage.ning.com/topology/rest/1.0/
 file/get/2247892606?profile=original
ATTENDEE;ROLE=REQ-PARTICIPANT;PARTSTAT=ACCEPTED;RSVP=TRUE;CN=Cecily:ht
 tp://trueskool.com/profile/Cecily
END:VEVENT
END:VCALENDAR
