BEGIN:VCALENDAR
PRODID:NingEventWidget-v1
VERSION:2.0
METHOD:PUBLISH
BEGIN:VTIMEZONE
TZID:America/Los_Angeles
X-LIC-LOCATION:America/Los_Angeles
BEGIN:DAYLIGHT
TZOFFSETFROM:-0800
TZOFFSETTO:-0700
TZNAME:PDT
DTSTART:19700308T020000
RRULE:FREQ=YEARLY;BYMONTH=3;BYDAY=2SU
END:DAYLIGHT
BEGIN:STANDARD
TZOFFSETFROM:-0700
TZOFFSETTO:-0800
TZNAME:PST
DTSTART:19701101T020000
RRULE:FREQ=YEARLY;BYMONTH=11;BYDAY=1SU
END:STANDARD
END:VTIMEZONE
BEGIN:VEVENT
UID:1464587:Event:651625
DTSTAMP:20260420T121514Z
SUMMARY:Atmosphere, Brother Ali, Dem Atlas, Plain Ole Bill, Last Word
DESCRIPTION:ENTER TO WIN A PAIR OF TICKETS. WINNER WILL BE DRAWN RANDO
 MLY AND ANNOUNCED 2 DAYS PRIOR TO EVENT.   \n Tue, Sep 20, 2016 Fre
 shwater Fly Fisherman Tour Atmosphere  Brother Ali, Dem Atlas, Plain O
 le Bill, Last Word\nThe Masonic, San Francisco, CA 07:30 PM >> BUY TIC
 KETS\n\n\nFor more information visit http://trueskool.com/events/atmos
 phere-brother-ali-dem-atlas-plain-ole-bill-last-word
DTSTART;TZID=America/Los_Angeles:20160920T193000
DTEND;TZID=America/Los_Angeles:20160920T230000
CATEGORIES:"bay area", "san francisco"
LOCATION:The Masonic, San Francisco
WEBSITE:http://concerts.livenation.com/event/1C0050D0B48B78F5
URL:http://concerts.livenation.com/event/1C0050D0B48B78F5
CONTACT:
ORGANIZER:Live Nation
ATTACH;FMTTYPE="image/jpeg":http://storage.ning.com/topology/rest/1.0/
 file/get/2247990350?profile=original
ATTENDEE;ROLE=REQ-PARTICIPANT;PARTSTAT=ACCEPTED;RSVP=TRUE;CN="Editor's
  Pick":http://trueskool.com/profile/RentheVinylArchaeologist
END:VEVENT
END:VCALENDAR
