BEGIN:VCALENDAR
PRODID:NingEventWidget-v1
VERSION:2.0
METHOD:PUBLISH
BEGIN:VTIMEZONE
TZID:America/Los_Angeles
X-LIC-LOCATION:America/Los_Angeles
BEGIN:DAYLIGHT
TZOFFSETFROM:-0800
TZOFFSETTO:-0700
TZNAME:PDT
DTSTART:19700308T020000
RRULE:FREQ=YEARLY;BYMONTH=3;BYDAY=2SU
END:DAYLIGHT
BEGIN:STANDARD
TZOFFSETFROM:-0700
TZOFFSETTO:-0800
TZNAME:PST
DTSTART:19701101T020000
RRULE:FREQ=YEARLY;BYMONTH=11;BYDAY=1SU
END:STANDARD
END:VTIMEZONE
BEGIN:VEVENT
UID:1464587:Event:651257
DTSTAMP:20260420T135324Z
SUMMARY:ATMOSPHERE, Brother Ali + more (WIN TICKETS)
DESCRIPTION:ENTER TO WIN A PAIR OF TICKETS. WINNER WILL BE DRAWN RANDO
 MLY AND ANNOUNCED 2 DAYS PRIOR TO EVENT.   \n MONDAY, SEPT 19 ATMOS
 PHERE Brother Ali deM atlas Plain Ole Bill and Last Word\n@ Fox Theate
 r – Oakland Presale sale runs this Thursday, 6/23 at 10am, password 
 = howden On Sale this Friday, 6/24 at 10am! >> BUY TICKETS\n\n\nFor mo
 re information visit http://trueskool.com/events/atmosphere-brother-al
 i-dem-atlas-plain-ole-bill-and-last-word
DTSTART;TZID=America/Los_Angeles:20160919T190000
DTEND;TZID=America/Los_Angeles:20160919T230000
CATEGORIES:"bay area", oakland
LOCATION:Fox Theater, Oakland
WEBSITE:http://www.ticketmaster.com/event/1C0050D4AFCB4951?camefrom=CF
 C_ANOTHERPLANET_ts&brand=anotherplanet
URL:http://www.ticketmaster.com/event/1C0050D4AFCB4951?camefrom=CFC_AN
 OTHERPLANET_ts&brand=anotherplanet
CONTACT:
ORGANIZER:Another Planet Entertainment
ATTACH;FMTTYPE="image/jpeg":http://storage.ning.com/topology/rest/1.0/
 file/get/2247989233?profile=original
ATTENDEE;ROLE=REQ-PARTICIPANT;PARTSTAT=ACCEPTED;RSVP=TRUE;CN="Robin Bo
 uc":http://trueskool.com/profile/Rawbone
ATTENDEE;ROLE=REQ-PARTICIPANT;PARTSTAT=ACCEPTED;RSVP=TRUE;CN="Donte Ha
 rrison":http://trueskool.com/profile/DonteHarrison
ATTENDEE;ROLE=REQ-PARTICIPANT;PARTSTAT=ACCEPTED;RSVP=TRUE;CN="Elisa Bj
 eldanes":http://trueskool.com/profile/ElisaBjeldanes
ATTENDEE;ROLE=REQ-PARTICIPANT;PARTSTAT=ACCEPTED;RSVP=TRUE;CN="Editor's
  Pick":http://trueskool.com/profile/RentheVinylArchaeologist
END:VEVENT
END:VCALENDAR
