BEGIN:VCALENDAR
PRODID:NingEventWidget-v1
VERSION:2.0
METHOD:PUBLISH
BEGIN:VTIMEZONE
TZID:America/Los_Angeles
X-LIC-LOCATION:America/Los_Angeles
BEGIN:DAYLIGHT
TZOFFSETFROM:-0800
TZOFFSETTO:-0700
TZNAME:PDT
DTSTART:19700308T020000
RRULE:FREQ=YEARLY;BYMONTH=3;BYDAY=2SU
END:DAYLIGHT
BEGIN:STANDARD
TZOFFSETFROM:-0700
TZOFFSETTO:-0800
TZNAME:PST
DTSTART:19701101T020000
RRULE:FREQ=YEARLY;BYMONTH=11;BYDAY=1SU
END:STANDARD
END:VTIMEZONE
BEGIN:VEVENT
UID:1464587:Event:337506
DTSTAMP:20260421T141954Z
SUMMARY:As You Like It and Honey Soundsystem present Derrick Carter an
 d Bicep at Mighty
DESCRIPTION:Line-up /\nDerrick Carter Bicep Honey Soundsystem Josh Che
 on Robot Hustle Jason Kendig P-Play Mossmoss Bells & Whistles Stay Dee
 p\n\nFor more information visit http://trueskool.com/events/as-you-lik
 e-it-and-honey-soundsystem-present-derrick-carter-and
DTSTART;TZID=America/Los_Angeles:20140412T220000
DTEND;TZID=America/Los_Angeles:20140413T020000
CATEGORIES:mighty
LOCATION:Mighty, San Francisco
WEBSITE:http://www.residentadvisor.net/event.aspx?559556
URL:http://www.residentadvisor.net/event.aspx?559556
CONTACT:
ORGANIZER:Mighty
ATTACH;FMTTYPE="image/jpeg":http://storage.ning.com/topology/rest/1.0/
 file/get/2247959527?profile=original
ATTENDEE;ROLE=REQ-PARTICIPANT;PARTSTAT=ACCEPTED;RSVP=TRUE;CN="Jess Die
 u":http://trueskool.com/profile/JessDieu
END:VEVENT
END:VCALENDAR
