BEGIN:VCALENDAR
PRODID:NingEventWidget-v1
VERSION:2.0
METHOD:PUBLISH
BEGIN:VTIMEZONE
TZID:America/Los_Angeles
X-LIC-LOCATION:America/Los_Angeles
BEGIN:DAYLIGHT
TZOFFSETFROM:-0800
TZOFFSETTO:-0700
TZNAME:PDT
DTSTART:19700308T020000
RRULE:FREQ=YEARLY;BYMONTH=3;BYDAY=2SU
END:DAYLIGHT
BEGIN:STANDARD
TZOFFSETFROM:-0700
TZOFFSETTO:-0800
TZNAME:PST
DTSTART:19701101T020000
RRULE:FREQ=YEARLY;BYMONTH=11;BYDAY=1SU
END:STANDARD
END:VTIMEZONE
BEGIN:VEVENT
UID:1464587:Event:332964
DTSTAMP:20260421T000341Z
SUMMARY:Aries Underground 2014
DESCRIPTION:(The 10th Annual) Aries Underground has left the clubs and
  is happening at our favorite Potrero HIll dance warehouse - The Ginge
 rbread House aka Danzhaus.Â   It's Aries Season -- time to upgrade you
 r Ram! We've got four Aries DJ birthdays happening under the same roof
 , all for a low pre-sale offer of $15 (see link below).  -------------
 -------------  DJs>>  DJ Charlotte The Baroness (Back from Chicago) - 
 We â™¥ u! She's OG! Original member in the Hardkiss Posse. Making trac
 ks again, look out!  Jason Greer - his sets at Sunset campout are as l
 egendary as his drum n bass sets from back in the day.Â   DJ Sean Murr
 ay (https://www.facebook.com/djseanmurrayofficial) - newest Housepital
 ity SF resident, back on the SF scene and largin it! Soundcloud:https:
 //soundcloud.com/sean-murray/sean-murray-live-the-get  DJ Seven - Â Ar
 rive early for cupcakes and an opening set with Sean Murray for the br
 avest of the early birds. Two new mixes here:www.soundcloud.com/dj-sev
 en  Lt. Daaan - Enchate camp DJ and Chief Lt in charge of NO FUN, he h
 appens to be 30-something young too!Â   Vitamin Devo- graphic designer
 , record label exec and DJ extraordinaire - his talents and humor know
  no bounds.Â   Duserock - Monarch upstairs resident and Chambers resid
 ent. His quirky DJ sets are as creative as his paintings.Â www.soundcl
 oud.com/duserock  DTek - Elder brother to Duserock, also a Ram! He pro
 duces house, Motown remixes and sick mash-ups.  Sean Barsotti - moved 
 back from Europe, newcomer on the scene and up for anything.Â   ------
 -----------------------  Sound>> Clean powerer, bass-loaded Dynacord S
 ound in both rooms, upstairs and downstairs by Dunn SoundÂ   Visuals>>
   Donovan - he's famous in many minds including his own.Â   Bar>> Full
  Bar provided by venue, licensed to sell drinks until 2am  Venue>> Gin
 gerbread House aka Danzhaus, 1275 Connecticut St. at Cesar Chavez St.Â
    Hours>> 930pm-430am.Â   Cost>> $15 Pre-Sale on EventBrite link here
 :Â   https://www.eventbrite.com/e/aries-underground-with-djs-charlotte
 -the-baroness-jason-greer-sean-murray-dj-seven-lt-daaan-vitamin-ticket
 s-11109024391  $20-$25 at the doorÂ   \n\nFor more information visit h
 ttp://trueskool.com/events/aries-underground-2014
DTSTART;TZID=America/Los_Angeles:20140419T213000
DTEND;TZID=America/Los_Angeles:20140420T043000
CATEGORIES:"san francisco", "bay area", soma
LOCATION:Danzhaus, San Francisco
WEBSITE:https://www.eventbrite.com/e/aries-underground-2014-tickets-11
 109024391
URL:https://www.eventbrite.com/e/aries-underground-2014-tickets-111090
 24391
CONTACT:415 336 5786
ORGANIZER:The Unusual Suspects
ATTACH;FMTTYPE="image/jpeg":http://storage.ning.com/topology/rest/1.0/
 file/get/2247960146?profile=original
ATTENDEE;ROLE=REQ-PARTICIPANT;PARTSTAT=ACCEPTED;RSVP=TRUE;CN="m.deep.m
 usic":http://trueskool.com/profile/mdeepmusic
ATTENDEE;ROLE=REQ-PARTICIPANT;PARTSTAT=ACCEPTED;RSVP=TRUE;CN="Sean Eva
 ns":http://trueskool.com/profile/SeanEvans
END:VEVENT
END:VCALENDAR
