BEGIN:VCALENDAR
PRODID:NingEventWidget-v1
VERSION:2.0
METHOD:PUBLISH
BEGIN:VTIMEZONE
TZID:America/Los_Angeles
X-LIC-LOCATION:America/Los_Angeles
BEGIN:DAYLIGHT
TZOFFSETFROM:-0800
TZOFFSETTO:-0700
TZNAME:PDT
DTSTART:19700308T020000
RRULE:FREQ=YEARLY;BYMONTH=3;BYDAY=2SU
END:DAYLIGHT
BEGIN:STANDARD
TZOFFSETFROM:-0700
TZOFFSETTO:-0800
TZNAME:PST
DTSTART:19701101T020000
RRULE:FREQ=YEARLY;BYMONTH=11;BYDAY=1SU
END:STANDARD
END:VTIMEZONE
BEGIN:VEVENT
UID:1464587:Event:625197
DTSTAMP:20260421T202335Z
SUMMARY:ARETHA FRANKLIN
DESCRIPTION:ARETHA FRANKLIN\nVery special guest Kenny “Babyface” E
 dmonds\nMonday, August 10, 2015\nDoors: 7:00PM |Show: 8:00PM\n\n7000 
 Coliseum Way\nOakland, CA 94621\n(510) 569-2121\nORACLE ARENA\n\n\nFor
  more information visit http://trueskool.com/events/aretha-franklin-1
DTSTART;TZID=America/Los_Angeles:20150810T200000
DTEND;TZID=America/Los_Angeles:20150810T230000
CATEGORIES:"san francisco", oakland, berkley, "san jose", "bay area"
LOCATION:Oracle Arena, Oakland
WEBSITE:http://www.ticketmaster.com/event/1C004E5ADA46945B
URL:http://www.ticketmaster.com/event/1C004E5ADA46945B
CONTACT:
ORGANIZER;CN="Editor's Pick":http://trueskool.com/profile/RentheVinylA
 rchaeologist
ATTACH;FMTTYPE="image/jpeg":http://storage.ning.com/topology/rest/1.0/
 file/get/2247974796?profile=original
ATTENDEE;ROLE=REQ-PARTICIPANT;PARTSTAT=ACCEPTED;RSVP=TRUE;CN="Editor's
  Pick":http://trueskool.com/profile/RentheVinylArchaeologist
END:VEVENT
END:VCALENDAR
