BEGIN:VCALENDAR
PRODID:NingEventWidget-v1
VERSION:2.0
METHOD:PUBLISH
BEGIN:VTIMEZONE
TZID:America/Los_Angeles
X-LIC-LOCATION:America/Los_Angeles
BEGIN:DAYLIGHT
TZOFFSETFROM:-0800
TZOFFSETTO:-0700
TZNAME:PDT
DTSTART:19700308T020000
RRULE:FREQ=YEARLY;BYMONTH=3;BYDAY=2SU
END:DAYLIGHT
BEGIN:STANDARD
TZOFFSETFROM:-0700
TZOFFSETTO:-0800
TZNAME:PST
DTSTART:19701101T020000
RRULE:FREQ=YEARLY;BYMONTH=11;BYDAY=1SU
END:STANDARD
END:VTIMEZONE
BEGIN:VEVENT
UID:1464587:Event:650819
DTSTAMP:20260420T145448Z
SUMMARY:Ani DiFranco
DESCRIPTION:As a singer, songwriter, activist and independent entrepre
 neur, Ani DiFranco has been setting her own pace—and encouraging cou
 ntless admirers to do the same—for more than 20 years. But while she
  has been known as the \"Little Folksinger,\" her music has grown far 
 beyond her acoustic solo roots in cozy venues to embrace jazz, soul, e
 lectronica and even more distant sounds. All of which are featured in 
 DiFranco's new Righteous Babe release, Allergic To Water, where she al
 so blends abstract imagery and deceptively understated melodies with p
 ersonal reflections on her life in New Orleans where she is now raisin
 g her two children with her partner, producer Mike Napolitano. \"It's
  such a humbling, and grueling, thing to raise children,\" DiFranco sa
 id. \"And that makes playing music more precious and makes me more gra
 teful. It's a real balancing act, but it also has a balancing effect.\
 "DiFranco adds that becoming a mother has brought her closer to listen
 ers who have followed her music since she began performing in New York
  City during the early 1990s. But widespread attention never prevented
  her from holding on to her integrity, and independence. A strong beli
 ef in human rights has run throughout her work, including when she pla
 yed at numerous benefit concerts around the world. At a time when reco
 rd labels still held an oversized influence, DiFranco stood ahead of t
 he curve in launching her own Righteous Babe Records. The company has 
 released more than 20 of her albums to date, ranging from the popular 
 two-disc live album, Living In Clip (1997), to the expansive To The Te
 eth (1999), which included such guests as legendary R&B saxophonist Ma
 ceo Parker and Prince. Journalist Sylvie Simmons wrote in the British 
 music magazine MOJO in 1998, \"Even if her overt politicism and her 20
 0-shows-per-year tours with an acoustic guitar place her in the Woody 
 Guthrie tradition, her music—which has boldly plundered funk or punk
 , hip hop, rock—doesn't.\"\n\nFor more information visit http://true
 skool.com/events/ani-difranco
DTSTART;TZID=America/Los_Angeles:20161007T200000
DTEND;TZID=America/Los_Angeles:20161007T230000
CATEGORIES:berkeley, "bay area", singer-songwriter, feminist, funk, pu
 nk
LOCATION:The UC Theatre, Berkeley, CA
WEBSITE:http://www.theuctheatre.org/event/1140569-ani-difranco-berkele
 y/
URL:http://www.theuctheatre.org/event/1140569-ani-difranco-berkeley/
CONTACT:510-356-4000
ORGANIZER;CN="The UC Theatre":http://trueskool.com/profile/TheUCTheatr
 e
ATTACH;FMTTYPE="image/jpeg":http://storage.ning.com/topology/rest/1.0/
 file/get/2247989076?profile=original
ATTENDEE;ROLE=REQ-PARTICIPANT;PARTSTAT=ACCEPTED;RSVP=TRUE;CN="The UC T
 heatre":http://trueskool.com/profile/TheUCTheatre
END:VEVENT
END:VCALENDAR
